BEGIN:VCALENDAR
VERSION:2.0
PRODID:-//Explore Holyoke - ECPv6.15.20//NONSGML v1.0//EN
CALSCALE:GREGORIAN
METHOD:PUBLISH
X-ORIGINAL-URL:https://www.exploreholyoke.com
X-WR-CALDESC:Events for Explore Holyoke
REFRESH-INTERVAL;VALUE=DURATION:PT1H
X-Robots-Tag:noindex
X-PUBLISHED-TTL:PT1H
BEGIN:VTIMEZONE
TZID:America/New_York
BEGIN:DAYLIGHT
TZOFFSETFROM:-0500
TZOFFSETTO:-0400
TZNAME:EDT
DTSTART:20210314T070000
END:DAYLIGHT
BEGIN:STANDARD
TZOFFSETFROM:-0400
TZOFFSETTO:-0500
TZNAME:EST
DTSTART:20211107T060000
END:STANDARD
BEGIN:DAYLIGHT
TZOFFSETFROM:-0500
TZOFFSETTO:-0400
TZNAME:EDT
DTSTART:20220313T070000
END:DAYLIGHT
BEGIN:STANDARD
TZOFFSETFROM:-0400
TZOFFSETTO:-0500
TZNAME:EST
DTSTART:20221106T060000
END:STANDARD
BEGIN:DAYLIGHT
TZOFFSETFROM:-0500
TZOFFSETTO:-0400
TZNAME:EDT
DTSTART:20230312T070000
END:DAYLIGHT
BEGIN:STANDARD
TZOFFSETFROM:-0400
TZOFFSETTO:-0500
TZNAME:EST
DTSTART:20231105T060000
END:STANDARD
END:VTIMEZONE
BEGIN:VEVENT
DTSTART;TZID=America/New_York:20220715T100000
DTEND;TZID=America/New_York:20220715T120000
DTSTAMP:20260424T073614
CREATED:20220629T162547Z
LAST-MODIFIED:20220629T172131Z
UID:10000411-1657879200-1657886400@www.exploreholyoke.com
SUMMARY:July On-Site Plant Sale
DESCRIPTION:Visit us here at Wistariahurst n the garden on the third Friday of each month for in-person plant sales!  Offerings will include some annuals as available\, perennials as they are culled and separated from our garden plants.  This is an opportunity to purchase healthy\, well cared for garden plantings at a competitive price\, and support the gardens at Wistariahurst.  Our gardeners will also be selling their excess gardening supplies\, and pots. \nHere are the upcoming dates\, so mark your calendars! \n• Friday\, August 19th\n• Friday\, September 16th\n• Friday\, October 21st
URL:https://www.exploreholyoke.com/event/july-on-site-plant-sale/
LOCATION:Wistariahurst\, 238 Cabot Street\, Holyoke\, MA\, 01040\, United States
ATTACH;FMTTYPE=image/jpeg:https://www.exploreholyoke.com/wp-content/uploads/2022/06/Catmint-Kit-Kat-e1651844760176-300x2941-1.jpg
END:VEVENT
BEGIN:VEVENT
DTSTART;TZID=America/New_York:20220710T123000
DTEND;TZID=America/New_York:20220710T133000
DTSTAMP:20260424T073614
CREATED:20220629T162121Z
LAST-MODIFIED:20220629T172055Z
UID:10000410-1657456200-1657459800@www.exploreholyoke.com
SUMMARY:July House Tour
DESCRIPTION:Join us for a 45 minute tour of 2 floors of Wistariahurst\, home of textile industrialist William Skinner and his family.  Learn about how and why the building was moved from Skinnerville to Holyoke. This docent lead tour our includes \n\nThe great hall\, library\, gallery\, leather room\, dining room\, butlers pantry and breakfast room\nSecond floor walk through to see private living spaces\nFamily and business history and context to the community\nStories of the staff who worked here\nDinosaur tracks\nFree access to the gardens and grounds
URL:https://www.exploreholyoke.com/event/july-house-tour/
LOCATION:Wistariahurst\, 238 Cabot Street\, Holyoke\, MA\, 01040\, United States
ATTACH;FMTTYPE=image/jpeg:https://www.exploreholyoke.com/wp-content/uploads/2022/06/Dejesus_Jessenia_01-2048x1609-1.jpg
END:VEVENT
BEGIN:VEVENT
DTSTART;TZID=America/New_York:20220709T133000
DTEND;TZID=America/New_York:20220709T150000
DTSTAMP:20260424T073614
CREATED:20220629T155212Z
LAST-MODIFIED:20220707T153730Z
UID:10000408-1657373400-1657378800@www.exploreholyoke.com
SUMMARY:I was a Black G.I.: A Retrospective.  Panel Discussion of Military Service 1960-2022
DESCRIPTION:In an effort to provide a more complex and diverse perspective of military service\, this in-person and live\, panel discussion will  addresses the intersectionality of what it meant/means to be Black and to serve in the Military.  This panel discussion will engage local black veterans to share their personal experiences and memories of being in the military.  Panelists represent Holyoke residents who served in the military from the late 50’s up until the 2000s. They will share their perspective of being a “Government Issue” G.I. as it related to housing\, uniforms\, jobs\, and other aspects of serving in various branches of the military. Moderated by Doug Griffin\, the panelists will include Mr. John Kennedy\, Mr. James Odom\, Mr. Marvin Dotson and Mrs. Lenora Tiggle.
URL:https://www.exploreholyoke.com/event/i-was-a-black-g-i-a-retrospective-panel-discussion-of-military-service-1960-2022/
LOCATION:Wistariahurst\, 238 Cabot Street\, Holyoke\, MA\, 01040\, United States
ATTACH;FMTTYPE=image/jpeg:https://www.exploreholyoke.com/wp-content/uploads/2022/06/Guys-in-Uniform-Griffin-Photo-album-20b.jpg
END:VEVENT
BEGIN:VEVENT
DTSTART;TZID=America/New_York:20220622T180000
DTEND;TZID=America/New_York:20220622T190000
DTSTAMP:20260424T073614
CREATED:20220608T161542Z
LAST-MODIFIED:20220621T152959Z
UID:10000321-1655920800-1655924400@www.exploreholyoke.com
SUMMARY:Talk Back with Guest Curator\, Nicholas Anderson on ATTENTION! Translating Uniforms\, Understanding Service now on display at Wistariahurst
DESCRIPTION:Wednesday June 22\, 2022 6:00 pm – 7:00 pm \nJoin Guest Curator Nicholas Anderson as he discusses how his exhibit of Holyoke Veterans’ Uniforms came together\, and hear his ideas about service and community.  Learn how his interests shaped this display and what he would like visitors to take away from the experience of connecting with these uniforms.\n\nAs an American military historian Nic’s area of focus is the interplay between American culture and the United States armed forces. The history of military service in Holyoke spans back to the nineteenth century with many distinguished service members. He is now pleased to discuss the work of curating an exhibit such as this\, as well as present some of the personal histories attached to these uniforms.\n\nBring your questions\, curiosity and get ready to learn a few things. Pre-registration is required.\nYou can attend this Talk Back\, either in person\, or virtually via Zoom.  In-person attendance is limited to the first  20 registrants.  The virtual Zoom interface will accept up to 80 people.\n\nPlease visit www.wistariahurst.org to register for this online event.  You will receive an email with the invitation and link to the online event the day before the event.
URL:https://www.exploreholyoke.com/event/talk-back-with-guest-curator-nicholas-anderson-on-attention-translating-uniforms-understanding-service-now-on-display-at-wistariahurst/
LOCATION:Wistariahurst\, 238 Cabot Street\, Holyoke\, MA\, 01040\, United States
ATTACH;FMTTYPE=image/jpeg:https://www.exploreholyoke.com/wp-content/uploads/2022/06/Three-Army-Uniforms.jpg
END:VEVENT
END:VCALENDAR