BEGIN:VCALENDAR
VERSION:2.0
PRODID:-//Explore Holyoke - ECPv6.15.20//NONSGML v1.0//EN
CALSCALE:GREGORIAN
METHOD:PUBLISH
X-ORIGINAL-URL:https://www.exploreholyoke.com
X-WR-CALDESC:Events for Explore Holyoke
REFRESH-INTERVAL;VALUE=DURATION:PT1H
X-Robots-Tag:noindex
X-PUBLISHED-TTL:PT1H
BEGIN:VTIMEZONE
TZID:America/New_York
BEGIN:DAYLIGHT
TZOFFSETFROM:-0500
TZOFFSETTO:-0400
TZNAME:EDT
DTSTART:20210314T070000
END:DAYLIGHT
BEGIN:STANDARD
TZOFFSETFROM:-0400
TZOFFSETTO:-0500
TZNAME:EST
DTSTART:20211107T060000
END:STANDARD
BEGIN:DAYLIGHT
TZOFFSETFROM:-0500
TZOFFSETTO:-0400
TZNAME:EDT
DTSTART:20220313T070000
END:DAYLIGHT
BEGIN:STANDARD
TZOFFSETFROM:-0400
TZOFFSETTO:-0500
TZNAME:EST
DTSTART:20221106T060000
END:STANDARD
BEGIN:DAYLIGHT
TZOFFSETFROM:-0500
TZOFFSETTO:-0400
TZNAME:EDT
DTSTART:20230312T070000
END:DAYLIGHT
BEGIN:STANDARD
TZOFFSETFROM:-0400
TZOFFSETTO:-0500
TZNAME:EST
DTSTART:20231105T060000
END:STANDARD
BEGIN:DAYLIGHT
TZOFFSETFROM:-0500
TZOFFSETTO:-0400
TZNAME:EDT
DTSTART:20240310T070000
END:DAYLIGHT
BEGIN:STANDARD
TZOFFSETFROM:-0400
TZOFFSETTO:-0500
TZNAME:EST
DTSTART:20241103T060000
END:STANDARD
BEGIN:DAYLIGHT
TZOFFSETFROM:-0500
TZOFFSETTO:-0400
TZNAME:EDT
DTSTART:20250309T070000
END:DAYLIGHT
BEGIN:STANDARD
TZOFFSETFROM:-0400
TZOFFSETTO:-0500
TZNAME:EST
DTSTART:20251102T060000
END:STANDARD
END:VTIMEZONE
BEGIN:VEVENT
DTSTART;TZID=America/New_York:20241005T120000
DTEND;TZID=America/New_York:20241005T130000
DTSTAMP:20260424T060738
CREATED:20240925T003140Z
LAST-MODIFIED:20240925T142545Z
UID:10003415-1728129600-1728133200@www.exploreholyoke.com
SUMMARY:Free Textile Reuse Workshop: Draft Door and Window Stopper
DESCRIPTION:Create a no-sew draft stopper using 100% recycled textile materials\, and learn more useful tips for how to save energy this winter. Have fun in a relaxing environment and walk away ready to keep out the winter drafts in your home! \nFREE\, all ages welcome and all materials \nIn partnership with the Artery and Massachusetts Clean Energy Center.
URL:https://www.exploreholyoke.com/event/free-textile-reuse-workshop-draft-door-and-window-stopper/
LOCATION:The Artery\, 289 High St\, Holyoke\, MA\, 01040\, United States
ATTACH;FMTTYPE=image/png:https://www.exploreholyoke.com/wp-content/uploads/2024/09/Screen-Shot-2024-09-24-at-8.30.26-PM.png
END:VEVENT
BEGIN:VEVENT
DTSTART;TZID=America/New_York:20240905T170000
DTEND;TZID=America/New_York:20240905T190000
DTSTAMP:20260424T060738
CREATED:20240820T194015Z
LAST-MODIFIED:20240821T142349Z
UID:10003248-1725555600-1725562800@www.exploreholyoke.com
SUMMARY:Reception: Not Your Grandmother's Hostess by Lora McNeece Barrett
DESCRIPTION:Not Your Grandmother’s Hostess is an embrace of the rich depth and vibrance of the garden. Lora McNeece Barrett’s paintings seamlessly shift between art and gardening\, taking the viewer on a stroll through her array of over 70 varieties of hostess\, recently on view in the Holyoke Preservation Trust Garden Tour. Join us for a reception on Sept. 5th at 5pm to celebrate the colors\, textures\, and shapes Barrett has brought to life. \nAdmission is free and refreshments are included.
URL:https://www.exploreholyoke.com/event/reception-not-your-grandmothers-hostess-by-lora-mcneece-barrett/
LOCATION:The Artery\, 289 High St\, Holyoke\, MA\, 01040\, United States
ATTACH;FMTTYPE=image/jpeg:https://www.exploreholyoke.com/wp-content/uploads/2024/08/In-the-Shadows-36x24-1.jpg
END:VEVENT
BEGIN:VEVENT
DTSTART;TZID=America/New_York:20240418T140000
DTEND;TZID=America/New_York:20240418T160000
DTSTAMP:20260424T060738
CREATED:20240327T181757Z
LAST-MODIFIED:20240327T183929Z
UID:10002454-1713448800-1713456000@www.exploreholyoke.com
SUMMARY:School Vacation @ the Artery
DESCRIPTION:Join us for a fun-filled school vacation at the ARTery! Come by and enjoy our drop-in open session where you can hang out\, make works of art\, complete a make-and-take project\, or pick up a project kit to make some art at home later on. We’ll have a variety of demonstrations and all the necessary supplies for you to get creative. This is an all-ages event\, so bring your family and let’s make some art together! Made possible by the Holyoke Local Cultural Council. Registration required. Adults must stay with underage participants; this is not a drop-off event.
URL:https://www.exploreholyoke.com/event/school-vacation-the-artery/
LOCATION:The Artery\, 289 High St\, Holyoke\, MA\, 01040\, United States
ATTACH;FMTTYPE=image/jpeg:https://www.exploreholyoke.com/wp-content/uploads/2024/03/art-kids-artery.jpg
END:VEVENT
BEGIN:VEVENT
DTSTART;TZID=America/New_York:20240323T120000
DTEND;TZID=America/New_York:20240323T130000
DTSTAMP:20260424T060738
CREATED:20240128T193403Z
LAST-MODIFIED:20240129T141448Z
UID:10002324-1711195200-1711198800@www.exploreholyoke.com
SUMMARY:Floral Illustration
DESCRIPTION:One hour\, all ages friendly! This one-hour make-and-take workshop introduces participants to some basic techniques of hand-drawn floral illustration. Participants will learn tips and techniques for drawing various flowers\, including penciling\, inking\, and coloring\, as well as composition pointers for patterns and floral bunches\, wreaths\, and word art. Demonstrations will include a few types of flowers and styles\, including the poppy\, and participants will be encouraged to use their imaginations as they illustrate their own set of notecards\, suitable for framing or mailing. Registration required\, $10 materials fee.
URL:https://www.exploreholyoke.com/event/floral-illustration/
LOCATION:The Artery\, 289 High St\, Holyoke\, MA\, 01040\, United States
ATTACH;FMTTYPE=image/jpeg:https://www.exploreholyoke.com/wp-content/uploads/2024/01/PXL_20240113_182948760.jpg
END:VEVENT
BEGIN:VEVENT
DTSTART;TZID=America/New_York:20240222T120000
DTEND;TZID=America/New_York:20240222T160000
DTSTAMP:20260424T060738
CREATED:20240128T175359Z
LAST-MODIFIED:20240129T141539Z
UID:10002325-1708603200-1708617600@www.exploreholyoke.com
SUMMARY:School Vacation Art@ the ARTery
DESCRIPTION:Join us for a fun-filled school vacation at the ARTery! Come by and enjoy our drop-in open session where you can hang out\, make works of art\, complete a make-and-take project\, or pick up a project kit to make some art at home later on. We’ll have a variety of demos and all the necessary supplies for you to get creative. This is an all-ages event\, so bring your family and let’s make some art together! Made possible by the Holyoke Local Cultural Council. \nRegistration required. Adults must stay with underage participants; this is not a drop-off event.
URL:https://www.exploreholyoke.com/event/school-vacation-art-the-artery/
LOCATION:The Artery\, 289 High St\, Holyoke\, MA\, 01040\, United States
END:VEVENT
BEGIN:VEVENT
DTSTART;TZID=America/New_York:20240217T120000
DTEND;TZID=America/New_York:20240217T130000
DTSTAMP:20260424T060738
CREATED:20240128T175018Z
LAST-MODIFIED:20240129T141628Z
UID:10002320-1708171200-1708174800@www.exploreholyoke.com
SUMMARY:Put A Bird On It!
DESCRIPTION:One hour\, all ages friendly! \nIn this one-hour make-and-take workshop\, participants will be led step-by-step through creating colorful and bright hanging felt bird ornaments for them to keep. This project can be used to brighten a room\, used as an ornament or wall hanging\, or given as a keepsake. \nRegistration required\, $10 materials fee.
URL:https://www.exploreholyoke.com/event/put-a-bird-on-it/
LOCATION:The Artery\, 289 High St\, Holyoke\, MA\, 01040\, United States
ATTACH;FMTTYPE=image/jpeg:https://www.exploreholyoke.com/wp-content/uploads/2024/01/PXL_20240113_153026325.jpg
END:VEVENT
BEGIN:VEVENT
DTSTART;TZID=America/New_York:20231223T110000
DTEND;TZID=America/New_York:20231223T130000
DTSTAMP:20260424T060738
CREATED:20231213T190933Z
LAST-MODIFIED:20231213T192903Z
UID:10002203-1703329200-1703336400@www.exploreholyoke.com
SUMMARY:Last-Minute Shop & Ornament Making
DESCRIPTION:Joins us for a Last-Minute Holiday Shopping at the Artery on Saturday\, Dec. 23 (11am-1pm). Discover over 1000 unique handmade items by 100 local artists. Enjoy complimentary cocoa while you shop and get creative making a custom holiday ornament. Find the perfect\, one-of-a-kind gift in a festive atmosphere!
URL:https://www.exploreholyoke.com/event/last-minute-shop-ornament-making/
LOCATION:The Artery\, 289 High St\, Holyoke\, MA\, 01040\, United States
ATTACH;FMTTYPE=image/jpeg:https://www.exploreholyoke.com/wp-content/uploads/2023/12/OrnamentEventPost3@2x-100.jpg
END:VEVENT
BEGIN:VEVENT
DTSTART;TZID=America/New_York:20230506T120000
DTEND;TZID=America/New_York:20230506T160000
DTSTAMP:20260424T060738
CREATED:20230414T215909Z
LAST-MODIFIED:20230418T132008Z
UID:10001261-1683374400-1683388800@www.exploreholyoke.com
SUMMARY:Spring Fair
DESCRIPTION:Arts & Crafts fair featuring 8 additional vendors at the ARTery.\nPerfect chance to buy ‘Gifts for mothers and others’.
URL:https://www.exploreholyoke.com/event/spring-fair/
LOCATION:The Artery\, 289 High St\, Holyoke\, MA\, 01040\, United States
ATTACH;FMTTYPE=image/jpeg:https://www.exploreholyoke.com/wp-content/uploads/2023/04/SpringFair_FB_Cover@0.5x-100.jpg
END:VEVENT
BEGIN:VEVENT
DTSTART;TZID=America/New_York:20221217T110000
DTEND;TZID=America/New_York:20221217T170000
DTSTAMP:20260424T060738
CREATED:20221123T182115Z
LAST-MODIFIED:20221128T135122Z
UID:10000556-1671274800-1671296400@www.exploreholyoke.com
SUMMARY:Holiday Market
DESCRIPTION:Come get your shopping on! Find last-minute unique and handmade gifts when an additional eight merry vendors will appear at the ARtery – for one day only!
URL:https://www.exploreholyoke.com/event/holiday-market/
LOCATION:The Artery\, 289 High St\, Holyoke\, MA\, 01040\, United States
ATTACH;FMTTYPE=image/png:https://www.exploreholyoke.com/wp-content/uploads/2022/11/HolidayMarketBanner@2x.png
END:VEVENT
END:VCALENDAR