BEGIN:VCALENDAR
VERSION:2.0
PRODID:-//Explore Holyoke - ECPv6.15.20//NONSGML v1.0//EN
CALSCALE:GREGORIAN
METHOD:PUBLISH
X-ORIGINAL-URL:https://www.exploreholyoke.com
X-WR-CALDESC:Events for Explore Holyoke
REFRESH-INTERVAL;VALUE=DURATION:PT1H
X-Robots-Tag:noindex
X-PUBLISHED-TTL:PT1H
BEGIN:VTIMEZONE
TZID:America/New_York
BEGIN:DAYLIGHT
TZOFFSETFROM:-0500
TZOFFSETTO:-0400
TZNAME:EDT
DTSTART:20210314T070000
END:DAYLIGHT
BEGIN:STANDARD
TZOFFSETFROM:-0400
TZOFFSETTO:-0500
TZNAME:EST
DTSTART:20211107T060000
END:STANDARD
BEGIN:DAYLIGHT
TZOFFSETFROM:-0500
TZOFFSETTO:-0400
TZNAME:EDT
DTSTART:20220313T070000
END:DAYLIGHT
BEGIN:STANDARD
TZOFFSETFROM:-0400
TZOFFSETTO:-0500
TZNAME:EST
DTSTART:20221106T060000
END:STANDARD
BEGIN:DAYLIGHT
TZOFFSETFROM:-0500
TZOFFSETTO:-0400
TZNAME:EDT
DTSTART:20230312T070000
END:DAYLIGHT
BEGIN:STANDARD
TZOFFSETFROM:-0400
TZOFFSETTO:-0500
TZNAME:EST
DTSTART:20231105T060000
END:STANDARD
BEGIN:DAYLIGHT
TZOFFSETFROM:-0500
TZOFFSETTO:-0400
TZNAME:EDT
DTSTART:20240310T070000
END:DAYLIGHT
BEGIN:STANDARD
TZOFFSETFROM:-0400
TZOFFSETTO:-0500
TZNAME:EST
DTSTART:20241103T060000
END:STANDARD
END:VTIMEZONE
BEGIN:VEVENT
DTSTART;TZID=America/New_York:20230708T110000
DTEND;TZID=America/New_York:20230708T140000
DTSTAMP:20260423T115556
CREATED:20230616T160420Z
LAST-MODIFIED:20230629T190045Z
UID:10001433-1688814000-1688824800@www.exploreholyoke.com
SUMMARY:Fresh Pressed: Print & Design Summer Series at Paper City Clothing Co
DESCRIPTION:Join us every weekend in July for print-your-own fun and special collaborations with local artist. Please check full hours below.\n \n Print your own! Step into our shop and become your own designer by choosing from blank apparel and home goods off our shelves and pairing it with a wide array of original art prints\, all designed in-house.\n \nEach Friday we are partnering with a different local designer to drop a limited-edition print – these will be available alongside the other print your own design options \nMusic\, refreshments and good vibes complete the occasion. Come by to design and print your own wares and celebrate some of our area’s talented clothing designers! Free\, and all are welcome! Print your own prices start at $5. Something for everyone!\n \n 
URL:https://www.exploreholyoke.com/event/fresh-pressed-print-design-summer-series-at-paper-city-clothing-co/2023-07-08/
LOCATION:Paper City Clothing Company\, 144 High Street\, Holyoke\, MA\, 01040\, United States
ATTACH;FMTTYPE=image/png:https://www.exploreholyoke.com/wp-content/uploads/2023/06/fresh-pressed-7-×-5-in3.png
END:VEVENT
BEGIN:VEVENT
DTSTART;TZID=America/New_York:20230707T160000
DTEND;TZID=America/New_York:20230707T190000
DTSTAMP:20260423T115556
CREATED:20230616T160420Z
LAST-MODIFIED:20230629T190045Z
UID:10001476-1688745600-1688756400@www.exploreholyoke.com
SUMMARY:Fresh Pressed: Print & Design Summer Series at Paper City Clothing Co
DESCRIPTION:Join us every weekend in July for print-your-own fun and special collaborations with local artist. Please check full hours below.\n \n Print your own! Step into our shop and become your own designer by choosing from blank apparel and home goods off our shelves and pairing it with a wide array of original art prints\, all designed in-house.\n \nEach Friday we are partnering with a different local designer to drop a limited-edition print – these will be available alongside the other print your own design options \nMusic\, refreshments and good vibes complete the occasion. Come by to design and print your own wares and celebrate some of our area’s talented clothing designers! Free\, and all are welcome! Print your own prices start at $5. Something for everyone!\n \n 
URL:https://www.exploreholyoke.com/event/fresh-pressed-print-design-summer-series-at-paper-city-clothing-co/2023-07-07/
LOCATION:Paper City Clothing Company\, 144 High Street\, Holyoke\, MA\, 01040\, United States
ATTACH;FMTTYPE=image/png:https://www.exploreholyoke.com/wp-content/uploads/2023/06/fresh-pressed-7-×-5-in3.png
END:VEVENT
BEGIN:VEVENT
DTSTART;TZID=America/New_York:20221217T130000
DTEND;TZID=America/New_York:20221217T180000
DTSTAMP:20260423T115556
CREATED:20221201T181846Z
LAST-MODIFIED:20221201T181846Z
UID:10000559-1671282000-1671300000@www.exploreholyoke.com
SUMMARY:U-Print Holiday Event & Shop
DESCRIPTION:Mix and Match blank items with artwork our team will print for you on the spot and enjoy wares from other local vendors of vintage or handmade products as well as seasonal refreshments! Free all welcome just come by and get into the holiday spirit!
URL:https://www.exploreholyoke.com/event/u-print-holiday-event-shop/
LOCATION:Paper City Clothing Company\, 144 High Street\, Holyoke\, MA\, 01040\, United States
ATTACH;FMTTYPE=image/png:https://www.exploreholyoke.com/wp-content/uploads/2022/11/Certificate-Celebration-285-×-200-px.png
END:VEVENT
END:VCALENDAR