BEGIN:VCALENDAR
VERSION:2.0
PRODID:-//Explore Holyoke - ECPv6.15.20//NONSGML v1.0//EN
CALSCALE:GREGORIAN
METHOD:PUBLISH
X-WR-CALNAME:Explore Holyoke
X-ORIGINAL-URL:https://www.exploreholyoke.com
X-WR-CALDESC:Events for Explore Holyoke
REFRESH-INTERVAL;VALUE=DURATION:PT1H
X-Robots-Tag:noindex
X-PUBLISHED-TTL:PT1H
BEGIN:VTIMEZONE
TZID:America/New_York
BEGIN:DAYLIGHT
TZOFFSETFROM:-0500
TZOFFSETTO:-0400
TZNAME:EDT
DTSTART:20240310T070000
END:DAYLIGHT
BEGIN:STANDARD
TZOFFSETFROM:-0400
TZOFFSETTO:-0500
TZNAME:EST
DTSTART:20241103T060000
END:STANDARD
BEGIN:DAYLIGHT
TZOFFSETFROM:-0500
TZOFFSETTO:-0400
TZNAME:EDT
DTSTART:20250309T070000
END:DAYLIGHT
BEGIN:STANDARD
TZOFFSETFROM:-0400
TZOFFSETTO:-0500
TZNAME:EST
DTSTART:20251102T060000
END:STANDARD
BEGIN:DAYLIGHT
TZOFFSETFROM:-0500
TZOFFSETTO:-0400
TZNAME:EDT
DTSTART:20260308T070000
END:DAYLIGHT
BEGIN:STANDARD
TZOFFSETFROM:-0400
TZOFFSETTO:-0500
TZNAME:EST
DTSTART:20261101T060000
END:STANDARD
END:VTIMEZONE
BEGIN:VEVENT
DTSTART;TZID=America/New_York:20250503T143000
DTEND;TZID=America/New_York:20250503T170000
DTSTAMP:20260422T064034
CREATED:20250408T015808Z
LAST-MODIFIED:20250425T120446Z
UID:10004565-1746282600-1746291600@www.exploreholyoke.com
SUMMARY:Soil Analysis\, Carbon Sampling and Designing for Resilience / Análisis de Suelos\, Muestreo de Carbono y Diseño para la Resiliencia
DESCRIPTION:In this hands-on workshop\, participants will learn how to accurately sample soils for comprehensive chemical analysis\, including soil organic carbon (SOC) and nutrient profiles. We will analyze in situ the biological\, physical and chemical properties of soils\, including compaction\, infiltration rate\, soil texture and structure\, surface biology\, soil aggregate stability\, root behavior\, soil temperature and bulk density. This integrated approach provides a thorough understanding of soil health by combining quantitative data with qualitative observations. Participants will also have an opportunity to learn about Landscape Interactions’ collaboration with Nuestras Raíces to transform a portion of their working landscape into a refugia for at-risk native bees\, butterflies and moths through the incorporation of biodiverse\, perennial and productive native plant communities. \n————— \nEn este taller práctico\, los participantes aprenderán a tomar muestras de suelo con precisión para un análisis químico integral\, incluyendo el carbono orgánico del suelo (SOC) y el perfil de nutrientes. Analizaremos in situ las propiedades biológicas\, físicas y químicas del suelo\, incluyendo la compactación\, la tasa de infiltración\, la textura y estructura del suelo\, la biología superficial\, la estabilidad de los agregados del suelo\, el comportamiento de las raíces\, la temperatura del suelo y la densidad aparente. Este enfoque integrado proporciona una comprensión profunda de la salud del suelo combinando datos cuantitativos con observaciones cualitativas. \nLos participantes también tendrán la oportunidad de conocer la colaboración entre Landscape Interactions y Nuestras Raíces para transformar una parte de su paisaje productivo en un refugio para abejas nativas\, mariposas y polillas en riesgo\, mediante la incorporación de comunidades de plantas nativas perennes y biodiversas con valor productivo.
URL:https://www.exploreholyoke.com/event/soil-analysis-carbon-sampling-and-designing-for-resilience-analisis-de-suelos-muestreo-de-carbono-y-diseno-para-la-resiliencia/
LOCATION:Nuestras Raíces\, 329 Main Street\, Holyoke\, MA\, 01040\, United States
ATTACH;FMTTYPE=image/png:https://www.exploreholyoke.com/wp-content/uploads/2025/04/LandscapeInteractions_04_NuestrasRaices-42625_SM.png
END:VEVENT
BEGIN:VEVENT
DTSTART;TZID=America/New_York:20250405T130000
DTEND;TZID=America/New_York:20250405T153000
DTSTAMP:20260422T064034
CREATED:20250207T200701Z
LAST-MODIFIED:20250211T210706Z
UID:10003891-1743858000-1743867000@www.exploreholyoke.com
SUMMARY:Baking Class for Beginners
DESCRIPTION:Join our Beginner Baking Class with Chef Sandra Hernández! ? Learn to bake cakes\, master frosting techniques\, and decorate cookies with royal icing. This workshop is in Spanish only \nStarts March 1st – Saturdays from 1:00 to 3:30 PM.\nLimited spots available! Call 413-535-1789 x209 to register.
URL:https://www.exploreholyoke.com/event/baking-class-for-beginners/2025-04-05/
LOCATION:Nuestras Raíces\, 329 Main Street\, Holyoke\, MA\, 01040\, United States
ATTACH;FMTTYPE=image/jpeg:https://www.exploreholyoke.com/wp-content/uploads/2025/02/IMG_2765.jpg
END:VEVENT
BEGIN:VEVENT
DTSTART;TZID=America/New_York:20250329T130000
DTEND;TZID=America/New_York:20250329T153000
DTSTAMP:20260422T064034
CREATED:20250207T200701Z
LAST-MODIFIED:20250211T210706Z
UID:10003890-1743253200-1743262200@www.exploreholyoke.com
SUMMARY:Baking Class for Beginners
DESCRIPTION:Join our Beginner Baking Class with Chef Sandra Hernández! ? Learn to bake cakes\, master frosting techniques\, and decorate cookies with royal icing. This workshop is in Spanish only \nStarts March 1st – Saturdays from 1:00 to 3:30 PM.\nLimited spots available! Call 413-535-1789 x209 to register.
URL:https://www.exploreholyoke.com/event/baking-class-for-beginners/2025-03-29/
LOCATION:Nuestras Raíces\, 329 Main Street\, Holyoke\, MA\, 01040\, United States
ATTACH;FMTTYPE=image/jpeg:https://www.exploreholyoke.com/wp-content/uploads/2025/02/IMG_2765.jpg
END:VEVENT
BEGIN:VEVENT
DTSTART;TZID=America/New_York:20250322T130000
DTEND;TZID=America/New_York:20250322T153000
DTSTAMP:20260422T064034
CREATED:20250207T200701Z
LAST-MODIFIED:20250211T210706Z
UID:10003889-1742648400-1742657400@www.exploreholyoke.com
SUMMARY:Baking Class for Beginners
DESCRIPTION:Join our Beginner Baking Class with Chef Sandra Hernández! ? Learn to bake cakes\, master frosting techniques\, and decorate cookies with royal icing. This workshop is in Spanish only \nStarts March 1st – Saturdays from 1:00 to 3:30 PM.\nLimited spots available! Call 413-535-1789 x209 to register.
URL:https://www.exploreholyoke.com/event/baking-class-for-beginners/2025-03-22/
LOCATION:Nuestras Raíces\, 329 Main Street\, Holyoke\, MA\, 01040\, United States
ATTACH;FMTTYPE=image/jpeg:https://www.exploreholyoke.com/wp-content/uploads/2025/02/IMG_2765.jpg
END:VEVENT
BEGIN:VEVENT
DTSTART;TZID=America/New_York:20250315T130000
DTEND;TZID=America/New_York:20250315T153000
DTSTAMP:20260422T064034
CREATED:20250207T200701Z
LAST-MODIFIED:20250211T210706Z
UID:10003888-1742043600-1742052600@www.exploreholyoke.com
SUMMARY:Baking Class for Beginners
DESCRIPTION:Join our Beginner Baking Class with Chef Sandra Hernández! ? Learn to bake cakes\, master frosting techniques\, and decorate cookies with royal icing. This workshop is in Spanish only \nStarts March 1st – Saturdays from 1:00 to 3:30 PM.\nLimited spots available! Call 413-535-1789 x209 to register.
URL:https://www.exploreholyoke.com/event/baking-class-for-beginners/2025-03-15/
LOCATION:Nuestras Raíces\, 329 Main Street\, Holyoke\, MA\, 01040\, United States
ATTACH;FMTTYPE=image/jpeg:https://www.exploreholyoke.com/wp-content/uploads/2025/02/IMG_2765.jpg
END:VEVENT
BEGIN:VEVENT
DTSTART;TZID=America/New_York:20250308T130000
DTEND;TZID=America/New_York:20250308T153000
DTSTAMP:20260422T064034
CREATED:20250207T200701Z
LAST-MODIFIED:20250211T210706Z
UID:10003887-1741438800-1741447800@www.exploreholyoke.com
SUMMARY:Baking Class for Beginners
DESCRIPTION:Join our Beginner Baking Class with Chef Sandra Hernández! ? Learn to bake cakes\, master frosting techniques\, and decorate cookies with royal icing. This workshop is in Spanish only \nStarts March 1st – Saturdays from 1:00 to 3:30 PM.\nLimited spots available! Call 413-535-1789 x209 to register.
URL:https://www.exploreholyoke.com/event/baking-class-for-beginners/2025-03-08/
LOCATION:Nuestras Raíces\, 329 Main Street\, Holyoke\, MA\, 01040\, United States
ATTACH;FMTTYPE=image/jpeg:https://www.exploreholyoke.com/wp-content/uploads/2025/02/IMG_2765.jpg
END:VEVENT
BEGIN:VEVENT
DTSTART;TZID=America/New_York:20250301T130000
DTEND;TZID=America/New_York:20250301T153000
DTSTAMP:20260422T064034
CREATED:20250207T200701Z
LAST-MODIFIED:20250211T210706Z
UID:10003886-1740834000-1740843000@www.exploreholyoke.com
SUMMARY:Baking Class for Beginners
DESCRIPTION:Join our Beginner Baking Class with Chef Sandra Hernández! ? Learn to bake cakes\, master frosting techniques\, and decorate cookies with royal icing. This workshop is in Spanish only \nStarts March 1st – Saturdays from 1:00 to 3:30 PM.\nLimited spots available! Call 413-535-1789 x209 to register.
URL:https://www.exploreholyoke.com/event/baking-class-for-beginners/2025-03-01/
LOCATION:Nuestras Raíces\, 329 Main Street\, Holyoke\, MA\, 01040\, United States
ATTACH;FMTTYPE=image/jpeg:https://www.exploreholyoke.com/wp-content/uploads/2025/02/IMG_2765.jpg
END:VEVENT
END:VCALENDAR