BEGIN:VCALENDAR
VERSION:2.0
PRODID:-//Explore Holyoke - ECPv6.15.20//NONSGML v1.0//EN
CALSCALE:GREGORIAN
METHOD:PUBLISH
X-WR-CALNAME:Explore Holyoke
X-ORIGINAL-URL:https://www.exploreholyoke.com
X-WR-CALDESC:Events for Explore Holyoke
REFRESH-INTERVAL;VALUE=DURATION:PT1H
X-Robots-Tag:noindex
X-PUBLISHED-TTL:PT1H
BEGIN:VTIMEZONE
TZID:America/New_York
BEGIN:DAYLIGHT
TZOFFSETFROM:-0500
TZOFFSETTO:-0400
TZNAME:EDT
DTSTART:20210314T070000
END:DAYLIGHT
BEGIN:STANDARD
TZOFFSETFROM:-0400
TZOFFSETTO:-0500
TZNAME:EST
DTSTART:20211107T060000
END:STANDARD
BEGIN:DAYLIGHT
TZOFFSETFROM:-0500
TZOFFSETTO:-0400
TZNAME:EDT
DTSTART:20220313T070000
END:DAYLIGHT
BEGIN:STANDARD
TZOFFSETFROM:-0400
TZOFFSETTO:-0500
TZNAME:EST
DTSTART:20221106T060000
END:STANDARD
BEGIN:DAYLIGHT
TZOFFSETFROM:-0500
TZOFFSETTO:-0400
TZNAME:EDT
DTSTART:20230312T070000
END:DAYLIGHT
BEGIN:STANDARD
TZOFFSETFROM:-0400
TZOFFSETTO:-0500
TZNAME:EST
DTSTART:20231105T060000
END:STANDARD
BEGIN:DAYLIGHT
TZOFFSETFROM:-0500
TZOFFSETTO:-0400
TZNAME:EDT
DTSTART:20240310T070000
END:DAYLIGHT
BEGIN:STANDARD
TZOFFSETFROM:-0400
TZOFFSETTO:-0500
TZNAME:EST
DTSTART:20241103T060000
END:STANDARD
BEGIN:DAYLIGHT
TZOFFSETFROM:-0500
TZOFFSETTO:-0400
TZNAME:EDT
DTSTART:20250309T070000
END:DAYLIGHT
BEGIN:STANDARD
TZOFFSETFROM:-0400
TZOFFSETTO:-0500
TZNAME:EST
DTSTART:20251102T060000
END:STANDARD
BEGIN:DAYLIGHT
TZOFFSETFROM:-0500
TZOFFSETTO:-0400
TZNAME:EDT
DTSTART:20260308T070000
END:DAYLIGHT
BEGIN:STANDARD
TZOFFSETFROM:-0400
TZOFFSETTO:-0500
TZNAME:EST
DTSTART:20261101T060000
END:STANDARD
BEGIN:DAYLIGHT
TZOFFSETFROM:-0500
TZOFFSETTO:-0400
TZNAME:EDT
DTSTART:20270314T070000
END:DAYLIGHT
BEGIN:STANDARD
TZOFFSETFROM:-0400
TZOFFSETTO:-0500
TZNAME:EST
DTSTART:20271107T060000
END:STANDARD
END:VTIMEZONE
BEGIN:VEVENT
DTSTART;TZID=America/New_York:20260416T190000
DTEND;TZID=America/New_York:20260416T220000
DTSTAMP:20260421T083308
CREATED:20260323T160151Z
LAST-MODIFIED:20260323T160635Z
UID:10005762-1776366000-1776376800@www.exploreholyoke.com
SUMMARY:1946: The Mistranslation That Shifted Culture
DESCRIPTION:The Holyoke Pride Committee presents a screening of 1946: The Mistranslation That Shifted Culture\, a documentary examining how the introduction of the word “homosexual” into a 1946 Bible translation influenced decades of misunderstanding and harm toward LGBTQIA+ people. \nThe event includes a live Q&A with composer Mary Lambert\, a queer artist and activist whose work explores themes of faith\, identity\, and healing. \nThis program is part of Holyoke Pride’s ongoing efforts to foster inclusive\, community-centered cultural experiences. Ticket proceeds support year-round Pride programming. \nTickets: https://www.holyokepride.org/1946
URL:https://www.exploreholyoke.com/event/1946-the-mistranslation-that-shifted-culture/
LOCATION:Holyoke Senior Center\, 291 Pine Street\, Holyoke\, MA\, 01040\, United States
ATTACH;FMTTYPE=image/png:https://www.exploreholyoke.com/wp-content/uploads/2026/03/1946_SQUARE-POST@2x.png
END:VEVENT
BEGIN:VEVENT
DTSTART;TZID=America/New_York:20260411T110000
DTEND;TZID=America/New_York:20260411T160000
DTSTAMP:20260421T083308
CREATED:20260326T020041Z
LAST-MODIFIED:20260326T141042Z
UID:10005765-1775905200-1775923200@www.exploreholyoke.com
SUMMARY:Flywheel Zine Fest
DESCRIPTION:Join dozens of local and regional zine creators for this annual event celebrating DIY print culture.
URL:https://www.exploreholyoke.com/event/flywheel-zine-fest-2/
LOCATION:Holyoke Senior Center\, 291 Pine Street\, Holyoke\, MA\, 01040\, United States
ATTACH;FMTTYPE=image/jpeg:https://www.exploreholyoke.com/wp-content/uploads/2026/03/IMG_1806.jpg
END:VEVENT
BEGIN:VEVENT
DTSTART;TZID=America/New_York:20250531T090000
DTEND;TZID=America/New_York:20250531T130000
DTSTAMP:20260421T083308
CREATED:20250506T201056Z
LAST-MODIFIED:20250507T133708Z
UID:10004610-1748682000-1748696400@www.exploreholyoke.com
SUMMARY:Holyoke Garden Crew Plant Sale
DESCRIPTION:Join us on Friday\, May 31 from 9am–1pm at the Holyoke Senior Center (291 Pine St) for a fun and festive plant sale! Shop a wide variety of indoor and outdoor plants\, enter our raffle to win great prizes\, and support the Senior Center’s ongoing garden projects. Come grow with us! ??
URL:https://www.exploreholyoke.com/event/holyoke-garden-crew-plant-sale/
LOCATION:Holyoke Senior Center\, 291 Pine Street\, Holyoke\, MA\, 01040\, United States
ATTACH;FMTTYPE=image/jpeg:https://www.exploreholyoke.com/wp-content/uploads/2025/05/EHPlant-Sale.jpg
END:VEVENT
BEGIN:VEVENT
DTSTART;TZID=America/New_York:20250503T110000
DTEND;TZID=America/New_York:20250503T160000
DTSTAMP:20260421T083308
CREATED:20250301T223643Z
LAST-MODIFIED:20250303T150234Z
UID:10004063-1746270000-1746288000@www.exploreholyoke.com
SUMMARY:2025 Flywheel Zine Fest
DESCRIPTION:The Flywheel ZineFest returns for another year at the Holyoke Senior Center. Come see dozens of amazing artists and zine creators from throughout the northeast. \nWhat’s a zine? A zine (ZEEN; short for magazine or fanzine) is a small-circulation self-published work of original or appropriated texts and images. Zines are the product of either a single person or of a very small group\, and are popularly photocopied into physical prints for circulation. A fanzine (blend of fan and magazine) is a non-professional and non-official publication produced by enthusiasts of a particular cultural phenomenon (such as a literary or musical genre) for the pleasure of others who share their interest. The term was coined in an October 1940 science fiction fanzine by Russ Chauvenet and popularized within science fiction fandom\, entering the Oxford English Dictionary in 1949.
URL:https://www.exploreholyoke.com/event/2025-flywheel-zine-fest/
LOCATION:Holyoke Senior Center\, 291 Pine Street\, Holyoke\, MA\, 01040\, United States
ATTACH;FMTTYPE=image/jpeg:https://www.exploreholyoke.com/wp-content/uploads/2025/03/IMG_1806.jpg
END:VEVENT
BEGIN:VEVENT
DTSTART;TZID=America/New_York:20250501T173000
DTEND;TZID=America/New_York:20250501T203000
DTSTAMP:20260421T083308
CREATED:20250414T184608Z
LAST-MODIFIED:20250414T195107Z
UID:10004580-1746120600-1746131400@www.exploreholyoke.com
SUMMARY:Eat Drink and be Holyoke
DESCRIPTION:HOLYOKE ROTARY CLUB ANNOUNCES DATE OF EAT\, DRINK\, & BE HOLYOKE \nA Premier Tasting Fundraiser & Silent Auction \nThe Holyoke Rotary Club has announced the date of the 2025 Eat\, Drink\, & Be Holyoke\, their premier tasting fundraiser and silent auction on Thursday\, May 1\, 2025. The event will take place at the Holyoke Council on Aging & Senior Center at 5:30pm and will include live music performed by The Earls & Pearls. \nEat\, Drink\, & Be Holyoke will feature food prepared by Amedeo’s\, Fame\, Pics Pub\, Rusty’s Place\, and Sumo. Beverage tastings will be provided by Quality Beverage and Wine Haus. Tasting samples will include craft beer\, seltzers\, canned cocktails\, and wine. \nTickets are $50 and can be purchased at https://edbh2025.eventbrite.com/. \nEat\, Drink & Be Holyoke is generously sponsored Holyoke Medical Center\, Holyoke Gas & Electric\, Carl & Shirley Eger\, Holyoke Credit Union\, Marcotte Ford\, Mountain View Landscapes\,  Brunault\, Proulx & McGuiness\, Center School\, River Valley Counseling Center\, Dowd Insurance\, Holyoke YMCA\, and Holyoke Mall At Ingleside. \nThe Holyoke Rotary Club is still identifying additional event sponsors\, as well as food and beverage vendors. Local businesses interested in supporting and collaborating together with the Holyoke Rotary Club for this event are encouraged to visit www.holyokerotary.com. \nProceeds will go towards supporting Rotary projects\, mostly within the Holyoke Rotary district of Holyoke\, South Hadley\, and Granby\, Mass. Ongoing Holyoke Rotary projects include providing several annual scholarships\, providing food for those in need through community collaborations\, and fostering community engagement with free summer concerts\, as well as funding international clean water initiatives. \nSince 2008 the Holyoke Rotary Club has raised over $150\,000 to fund various projects\, including the Miracle League of Western Massachusetts Inclusive Playground at Kennedy Field\, the media room at the Holyoke Library\, K-9 vests for the Holyoke Police Department\, and literacy projects with Kelly School and Holyoke Boys’ and Girls’ Club\, among others.
URL:https://www.exploreholyoke.com/event/eat-drink-and-be-holyoke-2/
LOCATION:Holyoke Senior Center\, 291 Pine Street\, Holyoke\, MA\, 01040\, United States
ATTACH;FMTTYPE=image/png:https://www.exploreholyoke.com/wp-content/uploads/2025/04/Eat-Drink-Be-Holyoke-Flyer-2025.png
END:VEVENT
BEGIN:VEVENT
DTSTART;TZID=America/New_York:20250325T090000
DTEND;TZID=America/New_York:20250325T120000
DTSTAMP:20260421T083308
CREATED:20250108T155709Z
LAST-MODIFIED:20250108T161008Z
UID:10003698-1742893200-1742904000@www.exploreholyoke.com
SUMMARY:Tuesday Holyoke Farmers' Market at the Holyoke Senior Center
DESCRIPTION:Founded in 1979\, the Holyoke Farmers’ Market in Holyoke\, MA has been a wonderful way to meet our local farmers and get fresh flavorful produce for over 40 years! \nWe accept EBT/ SNAP\, HIP – and WIC coupons – hablamos Español!
URL:https://www.exploreholyoke.com/event/tuesday-holyoke-farmers-market-at-the-holyoke-senior-center/2025-03-25/
LOCATION:Holyoke Senior Center\, 291 Pine Street\, Holyoke\, MA\, 01040\, United States
ATTACH;FMTTYPE=image/png:https://www.exploreholyoke.com/wp-content/uploads/2025/01/Farmers-Market-2025-Dates.png
END:VEVENT
BEGIN:VEVENT
DTSTART;TZID=America/New_York:20250318T090000
DTEND;TZID=America/New_York:20250318T120000
DTSTAMP:20260421T083308
CREATED:20250108T155709Z
LAST-MODIFIED:20250108T161008Z
UID:10003697-1742288400-1742299200@www.exploreholyoke.com
SUMMARY:Tuesday Holyoke Farmers' Market at the Holyoke Senior Center
DESCRIPTION:Founded in 1979\, the Holyoke Farmers’ Market in Holyoke\, MA has been a wonderful way to meet our local farmers and get fresh flavorful produce for over 40 years! \nWe accept EBT/ SNAP\, HIP – and WIC coupons – hablamos Español!
URL:https://www.exploreholyoke.com/event/tuesday-holyoke-farmers-market-at-the-holyoke-senior-center/2025-03-18/
LOCATION:Holyoke Senior Center\, 291 Pine Street\, Holyoke\, MA\, 01040\, United States
ATTACH;FMTTYPE=image/png:https://www.exploreholyoke.com/wp-content/uploads/2025/01/Farmers-Market-2025-Dates.png
END:VEVENT
BEGIN:VEVENT
DTSTART;TZID=America/New_York:20250311T090000
DTEND;TZID=America/New_York:20250311T120000
DTSTAMP:20260421T083308
CREATED:20250108T155709Z
LAST-MODIFIED:20250108T161008Z
UID:10003696-1741683600-1741694400@www.exploreholyoke.com
SUMMARY:Tuesday Holyoke Farmers' Market at the Holyoke Senior Center
DESCRIPTION:Founded in 1979\, the Holyoke Farmers’ Market in Holyoke\, MA has been a wonderful way to meet our local farmers and get fresh flavorful produce for over 40 years! \nWe accept EBT/ SNAP\, HIP – and WIC coupons – hablamos Español!
URL:https://www.exploreholyoke.com/event/tuesday-holyoke-farmers-market-at-the-holyoke-senior-center/2025-03-11/
LOCATION:Holyoke Senior Center\, 291 Pine Street\, Holyoke\, MA\, 01040\, United States
ATTACH;FMTTYPE=image/png:https://www.exploreholyoke.com/wp-content/uploads/2025/01/Farmers-Market-2025-Dates.png
END:VEVENT
BEGIN:VEVENT
DTSTART;TZID=America/New_York:20250304T090000
DTEND;TZID=America/New_York:20250304T120000
DTSTAMP:20260421T083308
CREATED:20250108T155709Z
LAST-MODIFIED:20250108T161008Z
UID:10003695-1741078800-1741089600@www.exploreholyoke.com
SUMMARY:Tuesday Holyoke Farmers' Market at the Holyoke Senior Center
DESCRIPTION:Founded in 1979\, the Holyoke Farmers’ Market in Holyoke\, MA has been a wonderful way to meet our local farmers and get fresh flavorful produce for over 40 years! \nWe accept EBT/ SNAP\, HIP – and WIC coupons – hablamos Español!
URL:https://www.exploreholyoke.com/event/tuesday-holyoke-farmers-market-at-the-holyoke-senior-center/2025-03-04/
LOCATION:Holyoke Senior Center\, 291 Pine Street\, Holyoke\, MA\, 01040\, United States
ATTACH;FMTTYPE=image/png:https://www.exploreholyoke.com/wp-content/uploads/2025/01/Farmers-Market-2025-Dates.png
END:VEVENT
BEGIN:VEVENT
DTSTART;TZID=America/New_York:20250225T090000
DTEND;TZID=America/New_York:20250225T120000
DTSTAMP:20260421T083308
CREATED:20250108T155709Z
LAST-MODIFIED:20250108T161008Z
UID:10003694-1740474000-1740484800@www.exploreholyoke.com
SUMMARY:Tuesday Holyoke Farmers' Market at the Holyoke Senior Center
DESCRIPTION:Founded in 1979\, the Holyoke Farmers’ Market in Holyoke\, MA has been a wonderful way to meet our local farmers and get fresh flavorful produce for over 40 years! \nWe accept EBT/ SNAP\, HIP – and WIC coupons – hablamos Español!
URL:https://www.exploreholyoke.com/event/tuesday-holyoke-farmers-market-at-the-holyoke-senior-center/2025-02-25/
LOCATION:Holyoke Senior Center\, 291 Pine Street\, Holyoke\, MA\, 01040\, United States
ATTACH;FMTTYPE=image/png:https://www.exploreholyoke.com/wp-content/uploads/2025/01/Farmers-Market-2025-Dates.png
END:VEVENT
BEGIN:VEVENT
DTSTART;TZID=America/New_York:20250218T090000
DTEND;TZID=America/New_York:20250218T120000
DTSTAMP:20260421T083308
CREATED:20250108T155709Z
LAST-MODIFIED:20250108T161008Z
UID:10003693-1739869200-1739880000@www.exploreholyoke.com
SUMMARY:Tuesday Holyoke Farmers' Market at the Holyoke Senior Center
DESCRIPTION:Founded in 1979\, the Holyoke Farmers’ Market in Holyoke\, MA has been a wonderful way to meet our local farmers and get fresh flavorful produce for over 40 years! \nWe accept EBT/ SNAP\, HIP – and WIC coupons – hablamos Español!
URL:https://www.exploreholyoke.com/event/tuesday-holyoke-farmers-market-at-the-holyoke-senior-center/2025-02-18/
LOCATION:Holyoke Senior Center\, 291 Pine Street\, Holyoke\, MA\, 01040\, United States
ATTACH;FMTTYPE=image/png:https://www.exploreholyoke.com/wp-content/uploads/2025/01/Farmers-Market-2025-Dates.png
END:VEVENT
BEGIN:VEVENT
DTSTART;TZID=America/New_York:20250211T090000
DTEND;TZID=America/New_York:20250211T120000
DTSTAMP:20260421T083308
CREATED:20250108T155709Z
LAST-MODIFIED:20250108T161008Z
UID:10003692-1739264400-1739275200@www.exploreholyoke.com
SUMMARY:Tuesday Holyoke Farmers' Market at the Holyoke Senior Center
DESCRIPTION:Founded in 1979\, the Holyoke Farmers’ Market in Holyoke\, MA has been a wonderful way to meet our local farmers and get fresh flavorful produce for over 40 years! \nWe accept EBT/ SNAP\, HIP – and WIC coupons – hablamos Español!
URL:https://www.exploreholyoke.com/event/tuesday-holyoke-farmers-market-at-the-holyoke-senior-center/2025-02-11/
LOCATION:Holyoke Senior Center\, 291 Pine Street\, Holyoke\, MA\, 01040\, United States
ATTACH;FMTTYPE=image/png:https://www.exploreholyoke.com/wp-content/uploads/2025/01/Farmers-Market-2025-Dates.png
END:VEVENT
BEGIN:VEVENT
DTSTART;TZID=America/New_York:20250204T090000
DTEND;TZID=America/New_York:20250204T120000
DTSTAMP:20260421T083308
CREATED:20250108T155709Z
LAST-MODIFIED:20250108T161008Z
UID:10003691-1738659600-1738670400@www.exploreholyoke.com
SUMMARY:Tuesday Holyoke Farmers' Market at the Holyoke Senior Center
DESCRIPTION:Founded in 1979\, the Holyoke Farmers’ Market in Holyoke\, MA has been a wonderful way to meet our local farmers and get fresh flavorful produce for over 40 years! \nWe accept EBT/ SNAP\, HIP – and WIC coupons – hablamos Español!
URL:https://www.exploreholyoke.com/event/tuesday-holyoke-farmers-market-at-the-holyoke-senior-center/2025-02-04/
LOCATION:Holyoke Senior Center\, 291 Pine Street\, Holyoke\, MA\, 01040\, United States
ATTACH;FMTTYPE=image/png:https://www.exploreholyoke.com/wp-content/uploads/2025/01/Farmers-Market-2025-Dates.png
END:VEVENT
BEGIN:VEVENT
DTSTART;TZID=America/New_York:20250128T090000
DTEND;TZID=America/New_York:20250128T120000
DTSTAMP:20260421T083308
CREATED:20250108T155709Z
LAST-MODIFIED:20250108T161008Z
UID:10003690-1738054800-1738065600@www.exploreholyoke.com
SUMMARY:Tuesday Holyoke Farmers' Market at the Holyoke Senior Center
DESCRIPTION:Founded in 1979\, the Holyoke Farmers’ Market in Holyoke\, MA has been a wonderful way to meet our local farmers and get fresh flavorful produce for over 40 years! \nWe accept EBT/ SNAP\, HIP – and WIC coupons – hablamos Español!
URL:https://www.exploreholyoke.com/event/tuesday-holyoke-farmers-market-at-the-holyoke-senior-center/2025-01-28/
LOCATION:Holyoke Senior Center\, 291 Pine Street\, Holyoke\, MA\, 01040\, United States
ATTACH;FMTTYPE=image/png:https://www.exploreholyoke.com/wp-content/uploads/2025/01/Farmers-Market-2025-Dates.png
END:VEVENT
BEGIN:VEVENT
DTSTART;TZID=America/New_York:20250121T090000
DTEND;TZID=America/New_York:20250121T120000
DTSTAMP:20260421T083308
CREATED:20250108T155709Z
LAST-MODIFIED:20250108T161008Z
UID:10003689-1737450000-1737460800@www.exploreholyoke.com
SUMMARY:Tuesday Holyoke Farmers' Market at the Holyoke Senior Center
DESCRIPTION:Founded in 1979\, the Holyoke Farmers’ Market in Holyoke\, MA has been a wonderful way to meet our local farmers and get fresh flavorful produce for over 40 years! \nWe accept EBT/ SNAP\, HIP – and WIC coupons – hablamos Español!
URL:https://www.exploreholyoke.com/event/tuesday-holyoke-farmers-market-at-the-holyoke-senior-center/2025-01-21/
LOCATION:Holyoke Senior Center\, 291 Pine Street\, Holyoke\, MA\, 01040\, United States
ATTACH;FMTTYPE=image/png:https://www.exploreholyoke.com/wp-content/uploads/2025/01/Farmers-Market-2025-Dates.png
END:VEVENT
BEGIN:VEVENT
DTSTART;TZID=America/New_York:20250114T090000
DTEND;TZID=America/New_York:20250114T120000
DTSTAMP:20260421T083308
CREATED:20250108T155709Z
LAST-MODIFIED:20250108T161008Z
UID:10003688-1736845200-1736856000@www.exploreholyoke.com
SUMMARY:Tuesday Holyoke Farmers' Market at the Holyoke Senior Center
DESCRIPTION:Founded in 1979\, the Holyoke Farmers’ Market in Holyoke\, MA has been a wonderful way to meet our local farmers and get fresh flavorful produce for over 40 years! \nWe accept EBT/ SNAP\, HIP – and WIC coupons – hablamos Español!
URL:https://www.exploreholyoke.com/event/tuesday-holyoke-farmers-market-at-the-holyoke-senior-center/2025-01-14/
LOCATION:Holyoke Senior Center\, 291 Pine Street\, Holyoke\, MA\, 01040\, United States
ATTACH;FMTTYPE=image/png:https://www.exploreholyoke.com/wp-content/uploads/2025/01/Farmers-Market-2025-Dates.png
END:VEVENT
BEGIN:VEVENT
DTSTART;TZID=America/New_York:20240427T110000
DTEND;TZID=America/New_York:20240427T160000
DTSTAMP:20260421T083308
CREATED:20240228T025456Z
LAST-MODIFIED:20240228T133921Z
UID:10002357-1714215600-1714233600@www.exploreholyoke.com
SUMMARY:Flywheel ZineFest
DESCRIPTION:A plethora of self-published zines\, comix\, funnybooks\, and other miscellaneous printed matter will be available for purchase from dozens of regional zine makers and distributors. Admission is free!\n\nThis program is supported in part by a grant from the Holyoke Cultural Council\, a local agency which is supported by the Mass Cultural Council\, a state agency
URL:https://www.exploreholyoke.com/event/flywheel-zinefest/
LOCATION:Holyoke Senior Center\, 291 Pine Street\, Holyoke\, MA\, 01040\, United States
ATTACH;FMTTYPE=image/jpeg:https://www.exploreholyoke.com/wp-content/uploads/2024/02/IMG_1805.jpg
END:VEVENT
BEGIN:VEVENT
DTSTART;TZID=America/New_York:20231022T130000
DTEND;TZID=America/New_York:20231022T150000
DTSTAMP:20260421T083308
CREATED:20230907T145611Z
LAST-MODIFIED:20230907T150133Z
UID:10001578-1697979600-1697986800@www.exploreholyoke.com
SUMMARY:Holyoke Senior Center Celebrates Holyoke's 150th Birthday
DESCRIPTION:Holyoke Senior Center Celebrates Holyoke’s 150th Birthday will be held on October 22nd\, on a Sunday afternoon\, at 1:00 at the Holyoke Senior Center for Seniors and their friends to celebrate the City’s 150th birthday. There will be a fashion show\, entertainment\, and cake and coffee. Tickets are free and will be available at the Senior Center starting Sept. 1st. Any questions\, please contact Elaine Pluta (President of the Friends of the Senior Center) at epluta827@gmail.com
URL:https://www.exploreholyoke.com/event/holyoke-senior-center-celebrates-holyokes-150th-birthday/
LOCATION:Holyoke Senior Center\, 291 Pine Street\, Holyoke\, MA\, 01040\, United States
ATTACH;FMTTYPE=image/jpeg:https://www.exploreholyoke.com/wp-content/uploads/2023/09/14681060_1154026558025715_4135136120019874527_o.jpg
END:VEVENT
BEGIN:VEVENT
DTSTART;TZID=America/New_York:20230504T093000
DTEND;TZID=America/New_York:20230504T110000
DTSTAMP:20260421T083308
CREATED:20230501T194054Z
LAST-MODIFIED:20230501T194143Z
UID:10001290-1683192600-1683198000@www.exploreholyoke.com
SUMMARY:Stroke Awareness: Responding #Together
DESCRIPTION:Join Holyoke Medical Center and other community organizations to learn more about strokes – from signs & symptoms to rehab & recovery – every Thursday throughout May at the Holyoke Council on Aging & Senior Center. \nResponding #Together\nThursday\, May 4\, 2023 | 9:30 a.m. – 11:00 a.m. \n\nStroke Education: Understanding How to Recognize a Stroke and What to Do\nwith Angela Smith\, RN\, BSN\, Manager of Stroke Service at Holyoke Medical Center and Rock Thibeault\, Paramedic\, Director of Operations at Cataldo Ambulance Service\nPost-Acute Care and What You Need to Know\nwith Michelle Taylor\, RN\, MSN\, Director of Case Management at Holyoke Medical Center\nGoing Home After a Stroke\nwith Kristin Held\, Clinical Liason at Holyoke VNA Hospice Life Care
URL:https://www.exploreholyoke.com/event/stroke-awareness-responding-together/
LOCATION:Holyoke Senior Center\, 291 Pine Street\, Holyoke\, MA\, 01040\, United States
END:VEVENT
BEGIN:VEVENT
DTSTART;TZID=America/New_York:20230429T110000
DTEND;TZID=America/New_York:20230429T160000
DTSTAMP:20260421T083308
CREATED:20230304T173706Z
LAST-MODIFIED:20230306T154000Z
UID:10000826-1682766000-1682784000@www.exploreholyoke.com
SUMMARY:Flywheel Zine Fest
DESCRIPTION:The 9th annual Flywheel Zine Fest (formerly known as the Pioneer Valley Zine Fest) is happening in Holyoke for the first time! Join dozens of zine makers\, creators\, and distributors from all over the Northeast as they sell their self-published ‘zines (https://en.wikipedia.org/wiki/Zine)\, comics\, and more on a variety of interesting topics. Students from Holyoke Public Schools will also be tabling and selling their zines. \nOrganized and run by Flywheel\, a 24 year old\, volunteer-run\, non profit arts collective. Sponsored in part with generous support from the Holyoke Local Cultural Council. \nContact info[AT]flywheelarts[DOT]org for more info on tabling\, visiting\, etc.
URL:https://www.exploreholyoke.com/event/flywheel-zine-fest/
LOCATION:Holyoke Senior Center\, 291 Pine Street\, Holyoke\, MA\, 01040\, United States
ATTACH;FMTTYPE=image/jpeg:https://www.exploreholyoke.com/wp-content/uploads/2023/03/IMG_10270140-copy-2.jpg
END:VEVENT
BEGIN:VEVENT
DTSTART;TZID=America/New_York:20230428T100000
DTEND;TZID=America/New_York:20230428T110000
DTSTAMP:20260421T083308
CREATED:20230414T184432Z
LAST-MODIFIED:20230418T131923Z
UID:10001260-1682676000-1682679600@www.exploreholyoke.com
SUMMARY:Arbor Day Tree Planting Event at Holyoke Senior Center
DESCRIPTION:Come celebrate Arbor Day 2023 with a ceremonial tree planting event at the Holyoke Senior Center! \nLight refreshments will be served \nArrive right at 10 am to hear a tree-ish speech and Arbor Day Proclamation by Mayor Joshua Garcia!
URL:https://www.exploreholyoke.com/event/arbor-day-tree-planting-event-at-holyoke-senior-center/
LOCATION:Holyoke Senior Center\, 291 Pine Street\, Holyoke\, MA\, 01040\, United States
ATTACH;FMTTYPE=image/png:https://www.exploreholyoke.com/wp-content/uploads/2023/04/Senior-Center-Tree-Planting-Flyer.png
END:VEVENT
BEGIN:VEVENT
DTSTART;TZID=America/New_York:20220622T153000
DTEND;TZID=America/New_York:20220622T193000
DTSTAMP:20260421T083308
CREATED:20220615T133355Z
LAST-MODIFIED:20220615T193326Z
UID:10000352-1655911800-1655926200@www.exploreholyoke.com
SUMMARY:Holyoke Historic and Cultural Tourism Plan Public Outreach Event!
DESCRIPTION:Holyoke Historic and Cultural Tourism Plan Public Outreach Event \nThe City of Holyoke Office of Planning and Economic Development (OPED) and the Pioneer Valley Planning Commission (PVPC) will be co-hosting a public meeting on Wednesday\, June 22nd\, between 3:30 p.m. and 7:30 p.m. at the Holyoke Senior Center on 291 Pine Street. \nThere will be duplicate presentations at 4 p.m. and 6 p.m. about the Holyoke Historic and Cultural Tourism Plan\, the new Explore Holyoke website and Holyoke Community Calendar\, and the Holyoke Library History Room’s Ciudad de Historias/City of Stories project. There will be a Spanish translator available\, and the presentations will be shared on Holyoke Media. \nPublic input will be sought during the event to gain insight about how residents value Holyoke’s historic and cultural resources. And to better understand what residents would like to see further developed or provided as part of the Holyoke experience in a manner that is representative of the city’s history and cultural heritage. The feedback will be incorporated into the Holyoke Historic and Cultural Tourism Plan\, which is being created as an amendment to the recently completed Holyoke Tourism Strategic Plan. \nIf you have questions\, please contact Ileana Carrion at Carrioni@holyoke.org. \nhttps://www.holyoke.org/departments/planning-economic-development/ \nhttps://www.pvpc.org/ \nhttps://www.exploreholyoke.com/ \nhttps://www.exploreholyoke.com/calendar/ \nhttp://www.holyokelibrary.org/historyabout.asp \nhttp://www.holyokelibrary.org/ckfinder/userfiles/files/CityofStoriesPR%2D22Mar22f%2Drev.pdf \nhttps://holyokehasenergy.com/wp-content/uploads/2021/04/Holyoke-Tourism-Plan.pdf
URL:https://www.exploreholyoke.com/event/holyoke-historic-and-cultural-tourism-plan-public-outreach-event/
LOCATION:Holyoke Senior Center\, 291 Pine Street\, Holyoke\, MA\, 01040\, United States
ATTACH;FMTTYPE=image/jpeg:https://www.exploreholyoke.com/wp-content/uploads/2022/06/Public-Hearing-Photo-scaled.jpg
ORGANIZER;CN="Ileana Carrion":MAILTO:Carrioni@holyoke.org
END:VEVENT
END:VCALENDAR