BEGIN:VCALENDAR
VERSION:2.0
PRODID:-//Explore Holyoke - ECPv6.15.20//NONSGML v1.0//EN
CALSCALE:GREGORIAN
METHOD:PUBLISH
X-ORIGINAL-URL:https://www.exploreholyoke.com
X-WR-CALDESC:Events for Explore Holyoke
REFRESH-INTERVAL;VALUE=DURATION:PT1H
X-Robots-Tag:noindex
X-PUBLISHED-TTL:PT1H
BEGIN:VTIMEZONE
TZID:America/New_York
BEGIN:DAYLIGHT
TZOFFSETFROM:-0500
TZOFFSETTO:-0400
TZNAME:EDT
DTSTART:20210314T070000
END:DAYLIGHT
BEGIN:STANDARD
TZOFFSETFROM:-0400
TZOFFSETTO:-0500
TZNAME:EST
DTSTART:20211107T060000
END:STANDARD
BEGIN:DAYLIGHT
TZOFFSETFROM:-0500
TZOFFSETTO:-0400
TZNAME:EDT
DTSTART:20220313T070000
END:DAYLIGHT
BEGIN:STANDARD
TZOFFSETFROM:-0400
TZOFFSETTO:-0500
TZNAME:EST
DTSTART:20221106T060000
END:STANDARD
BEGIN:DAYLIGHT
TZOFFSETFROM:-0500
TZOFFSETTO:-0400
TZNAME:EDT
DTSTART:20230312T070000
END:DAYLIGHT
BEGIN:STANDARD
TZOFFSETFROM:-0400
TZOFFSETTO:-0500
TZNAME:EST
DTSTART:20231105T060000
END:STANDARD
BEGIN:DAYLIGHT
TZOFFSETFROM:-0500
TZOFFSETTO:-0400
TZNAME:EDT
DTSTART:20240310T070000
END:DAYLIGHT
BEGIN:STANDARD
TZOFFSETFROM:-0400
TZOFFSETTO:-0500
TZNAME:EST
DTSTART:20241103T060000
END:STANDARD
END:VTIMEZONE
BEGIN:VEVENT
DTSTART;TZID=America/New_York:20230312T150000
DTEND;TZID=America/New_York:20230312T150000
DTSTAMP:20260421T135708
CREATED:20230302T155255Z
LAST-MODIFIED:20230302T163405Z
UID:10000705-1678633200-1678633200@www.exploreholyoke.com
SUMMARY:Holyoke Civic Symphony Concert
DESCRIPTION:The Holyoke Civic Symphony will perform in the Leslie Phillips Theater at Holyoke Community College on Sunday\, March 12 at 3 p.m. This concert is free and open to all.
URL:https://www.exploreholyoke.com/event/holyoke-civic-symphony-concert/
LOCATION:Holyoke Community College\, 303 Homestead Ave\, Holyoke\, MA\, 01040\, United States
ATTACH;FMTTYPE=image/jpeg:https://www.exploreholyoke.com/wp-content/uploads/2023/03/328725789_8985470928160479_855794764926793737_n.jpg
END:VEVENT
BEGIN:VEVENT
DTSTART;TZID=America/New_York:20230303T200000
DTEND;TZID=America/New_York:20230303T200000
DTSTAMP:20260421T135708
CREATED:20230302T155130Z
LAST-MODIFIED:20230302T163341Z
UID:10000704-1677873600-1677873600@www.exploreholyoke.com
SUMMARY:Jazz Festival
DESCRIPTION:The annual Holyoke Community College Jazz Festival returns for its 24th year on March 3 with bass player Avery Sharpe joining the Amherst Jazz Orchestra and members of the HCC jazz faculty for a big band concert.\n\nThe show will begin at 8 p.m. in HCC’s Leslie Phillips Theater in the Fine & Performing Arts building on the main HCC campus\, 303 Homestead Ave. The concert is free for HCC students\, faculty and staff\, and $10 for the general public.\n\nRead more about special guest Avery Sharpe: https://tinyurl.com/3e3zwuhu
URL:https://www.exploreholyoke.com/event/jazz-festival/
LOCATION:Holyoke Community College\, 303 Homestead Ave\, Holyoke\, MA\, 01040\, United States
ATTACH;FMTTYPE=image/jpeg:https://www.exploreholyoke.com/wp-content/uploads/2023/03/332985667_570983938413184_7819520042985666933_n.jpg
END:VEVENT
BEGIN:VEVENT
DTSTART;TZID=America/New_York:20221023T150000
DTEND;TZID=America/New_York:20221023T161500
DTSTAMP:20260421T135708
CREATED:20221014T230146Z
LAST-MODIFIED:20221017T182651Z
UID:10000530-1666537200-1666541700@www.exploreholyoke.com
SUMMARY:Skol! A Scandinavian Celebration
DESCRIPTION:In the Leslie Phillips Theater in the Fine and Performing Art building of Holyoke Community College\, doors open at 2:30 for the performance which begins at 3 pm. There is no admission charge. Donations (cash and checks )are greatly appreciated. \nComposers born in the Scandinavian nations of Norway\, Sweden\, Denmark\, Finland\, and Iceland were relative newcomers to the Classical European art scene\, but since World War II their works have become increasingly prominent in orchestra programs as well as in popular music. In Skol! A Scandinavian Celebration four of the best-known musicians whose compositions have become familiar to audiences around the world will be performed\, including: Cark Nielsen’s Maskarade Overture\, FS-39; two selections from works of Jean Sibelius – Karelia Suite\, Op. 11 and Finlandia\, Op. 26; Franz Berwald’s Estrella de Soria Overture\, and Edvard Grieg’s Peer Gynt Suite No. 1\, Op- 46. \nConcertgoers are required to wear masks in building and theater. \nCan’t make it to the live concert? Register at https://tinyurl.com/nsrwchuf to ZOOM.\nFurther information about the program\, the season\, to donate online\, and more is available at www.holyokecivicsymphony.org or 413-256-1760.
URL:https://www.exploreholyoke.com/event/skol-a-scandinavian-celebration/
LOCATION:Holyoke Community College\, 303 Homestead Ave\, Holyoke\, MA\, 01040\, United States
ATTACH;FMTTYPE=image/png:https://www.exploreholyoke.com/wp-content/uploads/2022/10/Skol-A-Scandinavian-Celebration.png
END:VEVENT
END:VCALENDAR