BEGIN:VCALENDAR
VERSION:2.0
PRODID:-//Explore Holyoke - ECPv6.15.20//NONSGML v1.0//EN
CALSCALE:GREGORIAN
METHOD:PUBLISH
X-WR-CALNAME:Explore Holyoke
X-ORIGINAL-URL:https://www.exploreholyoke.com
X-WR-CALDESC:Events for Explore Holyoke
REFRESH-INTERVAL;VALUE=DURATION:PT1H
X-Robots-Tag:noindex
X-PUBLISHED-TTL:PT1H
BEGIN:VTIMEZONE
TZID:America/New_York
BEGIN:DAYLIGHT
TZOFFSETFROM:-0500
TZOFFSETTO:-0400
TZNAME:EDT
DTSTART:20210314T070000
END:DAYLIGHT
BEGIN:STANDARD
TZOFFSETFROM:-0400
TZOFFSETTO:-0500
TZNAME:EST
DTSTART:20211107T060000
END:STANDARD
BEGIN:DAYLIGHT
TZOFFSETFROM:-0500
TZOFFSETTO:-0400
TZNAME:EDT
DTSTART:20220313T070000
END:DAYLIGHT
BEGIN:STANDARD
TZOFFSETFROM:-0400
TZOFFSETTO:-0500
TZNAME:EST
DTSTART:20221106T060000
END:STANDARD
BEGIN:DAYLIGHT
TZOFFSETFROM:-0500
TZOFFSETTO:-0400
TZNAME:EDT
DTSTART:20230312T070000
END:DAYLIGHT
BEGIN:STANDARD
TZOFFSETFROM:-0400
TZOFFSETTO:-0500
TZNAME:EST
DTSTART:20231105T060000
END:STANDARD
BEGIN:DAYLIGHT
TZOFFSETFROM:-0500
TZOFFSETTO:-0400
TZNAME:EDT
DTSTART:20240310T070000
END:DAYLIGHT
BEGIN:STANDARD
TZOFFSETFROM:-0400
TZOFFSETTO:-0500
TZNAME:EST
DTSTART:20241103T060000
END:STANDARD
BEGIN:DAYLIGHT
TZOFFSETFROM:-0500
TZOFFSETTO:-0400
TZNAME:EDT
DTSTART:20250309T070000
END:DAYLIGHT
BEGIN:STANDARD
TZOFFSETFROM:-0400
TZOFFSETTO:-0500
TZNAME:EST
DTSTART:20251102T060000
END:STANDARD
BEGIN:DAYLIGHT
TZOFFSETFROM:-0500
TZOFFSETTO:-0400
TZNAME:EDT
DTSTART:20260308T070000
END:DAYLIGHT
BEGIN:STANDARD
TZOFFSETFROM:-0400
TZOFFSETTO:-0500
TZNAME:EST
DTSTART:20261101T060000
END:STANDARD
END:VTIMEZONE
BEGIN:VEVENT
DTSTART;TZID=America/New_York:20250920T193000
DTEND;TZID=America/New_York:20250920T220000
DTSTAMP:20260421T121041
CREATED:20250904T190743Z
LAST-MODIFIED:20250904T191321Z
UID:10005087-1758396600-1758405600@www.exploreholyoke.com
SUMMARY:Phillips Festival 2025
DESCRIPTION:Mark your calendars for an unforgettable evening of original one act plays! This isn’t just a show. It’s a theatrical marathon where creative minds come together to write\, direct\,  and stage brand new plays in just one day! Come celebrate community\, creativity\, and collaboration! This festival honors the legacy of Leslie Phillips\, founder of the Holyoke Community College theater department\, by raising money for the Leslie Phillips Fund  for Arts and Education at HCC.
URL:https://www.exploreholyoke.com/event/phillips-festival-2025/
LOCATION:Holyoke Community College\, 303 Homestead Ave\, Holyoke\, MA\, 01040\, United States
ATTACH;FMTTYPE=image/png:https://www.exploreholyoke.com/wp-content/uploads/2025/09/LEGACY-COVER.png
END:VEVENT
BEGIN:VEVENT
DTSTART;TZID=America/New_York:20250516T183000
DTEND;TZID=America/New_York:20250516T210000
DTSTAMP:20260421T121041
CREATED:20250426T200833Z
LAST-MODIFIED:20250427T131133Z
UID:10004592-1747420200-1747429200@www.exploreholyoke.com
SUMMARY:BBJ Spring Spectacular Showing: A Free Musical Theater Event!
DESCRIPTION:Join the BBJ Broadway Brings Joy Musical Academy of Holyoke as we present our final musical theater showcase of the school year at Holyoke Community College! This is a FREE and family-friendly event that will feature musical pieces from the following shows: PIPPIN\, BARNUM\, PRNICESS AND THE FROG\, THE GREATEST SHOWMAN\, SCHOOLHOUSE ROCK\, HAMILTON\, JAGGED LITTLE PILL\, RENT\, SING and FOOTLOOSE! \nThis is great way to see what our BBJ Musical Theater Academy is all about\, AND support local art. \n6:30pm – Doors Open\, 7pm – Show Begins (approx 90-mins run time) \nLeslie Phillips Theater\, Holyoke Community College *use parking lots F or G \nFREE and open to the public *suggested donation $10/per person \nSnacks and BBJ Merch available for purchase (cash or venmo) \nBring YOUR Joy to US! We hope to see you there!\n***This event is supported in part by Holyoke Local Cultural Council\, a local branch of Mass Cultural Council
URL:https://www.exploreholyoke.com/event/bbj-spring-spectacular-showing-a-free-musical-theater-event/
LOCATION:Holyoke Community College\, 303 Homestead Ave\, Holyoke\, MA\, 01040\, United States
ATTACH;FMTTYPE=image/jpeg:https://www.exploreholyoke.com/wp-content/uploads/2025/04/BBJ_Spring_Showing_Poster2025.jpg
END:VEVENT
BEGIN:VEVENT
DTSTART;TZID=America/New_York:20241214T160000
DTEND;TZID=America/New_York:20241214T180000
DTSTAMP:20260421T121041
CREATED:20241203T143909Z
LAST-MODIFIED:20241203T151227Z
UID:10003551-1734192000-1734199200@www.exploreholyoke.com
SUMMARY:Holyoke Historic Nutcracker
DESCRIPTION:The Massachusetts Academy of Ballet performs its whimsical rendition of the Nutcracker with an homage to Holyoke. The production is set in the Wistariahurst Mansion and the Holyoke Opera House and weaves bit of the Skinner family with inventive choreography danced by students at MAB and MABETA. Skinner family cousins William & Ruth dance enjoying the Holiday\, then the evening turns into magical happenings at the mansion\, trips to Mt Tom\, and even a performance by the Wistaria Flowers and many Sweets as the Holyoke Opera House magically turns into a candy box. \nShows at 1pm & 4pm
URL:https://www.exploreholyoke.com/event/holyoke-historic-nutcracker-2/2024-12-14/2/
LOCATION:Holyoke Community College\, 303 Homestead Ave\, Holyoke\, MA\, 01040\, United States
ATTACH;FMTTYPE=image/png:https://www.exploreholyoke.com/wp-content/uploads/2024/12/IMG_4839.png
END:VEVENT
BEGIN:VEVENT
DTSTART;TZID=America/New_York:20241214T130000
DTEND;TZID=America/New_York:20241214T150000
DTSTAMP:20260421T121041
CREATED:20241203T143909Z
LAST-MODIFIED:20241203T151227Z
UID:10003550-1734181200-1734188400@www.exploreholyoke.com
SUMMARY:Holyoke Historic Nutcracker
DESCRIPTION:The Massachusetts Academy of Ballet performs its whimsical rendition of the Nutcracker with an homage to Holyoke. The production is set in the Wistariahurst Mansion and the Holyoke Opera House and weaves bit of the Skinner family with inventive choreography danced by students at MAB and MABETA. Skinner family cousins William & Ruth dance enjoying the Holiday\, then the evening turns into magical happenings at the mansion\, trips to Mt Tom\, and even a performance by the Wistaria Flowers and many Sweets as the Holyoke Opera House magically turns into a candy box. \nShows at 1pm & 4pm
URL:https://www.exploreholyoke.com/event/holyoke-historic-nutcracker-2/2024-12-14/1/
LOCATION:Holyoke Community College\, 303 Homestead Ave\, Holyoke\, MA\, 01040\, United States
ATTACH;FMTTYPE=image/png:https://www.exploreholyoke.com/wp-content/uploads/2024/12/IMG_4839.png
END:VEVENT
BEGIN:VEVENT
DTSTART;TZID=America/New_York:20241020T083000
DTEND;TZID=America/New_York:20241020T130000
DTSTAMP:20260421T121041
CREATED:20241015T181354Z
LAST-MODIFIED:20241015T182429Z
UID:10003451-1729413000-1729429200@www.exploreholyoke.com
SUMMARY:Pioneer Valley Walk to End Alzheimer's
DESCRIPTION:Join us for the largest\, local event to raise awareness and funds for Alzheimer’s and all other dementia! Walkers are welcome beginning at 8:30 AM\, with a Zumba warm up at 9:20 AM\, a brief ceremony at 9:45 AM\, and the Walk beginning thereafter around 10:00 AM. The Walk is a 1.5 mile loop around the Holyoke Community College campus\, and there is also a shorter .25 mile loop option around the HCC track. People of all ages\, including children\, and leashed pets welcome! Visit with our sponsors\, Ask an Expert\, take photos\, write a tribute to a loved one\, grab some refreshments and spend time with our local community as we fight to #ENDALZ! \nFree to register as a team or individual walker\, but we do ask that anyone attending register via the Walk website or on site on Sunday. All funds raised help fund research\, and help the Alzheimer’s Association provide no-cost care and support to anyone facing dementia and their loved ones.
URL:https://www.exploreholyoke.com/event/pioneer-valley-walk-to-end-alzheimers/
LOCATION:Holyoke Community College\, 303 Homestead Ave\, Holyoke\, MA\, 01040\, United States
ATTACH;FMTTYPE=image/jpeg:https://www.exploreholyoke.com/wp-content/uploads/2024/10/Walk-to-End-Alzheimers-Pioneer-Valley-Flyer.jpg
END:VEVENT
BEGIN:VEVENT
DTSTART;TZID=America/New_York:20240928T193000
DTEND;TZID=America/New_York:20240928T223000
DTSTAMP:20260421T121041
CREATED:20240913T183103Z
LAST-MODIFIED:20240916T125449Z
UID:10003334-1727551800-1727562600@www.exploreholyoke.com
SUMMARY:Phillips Festival 2024
DESCRIPTION:The Phillips Festival challenges participants to write\, direct\, and stage original short plays\, in JUST ONE DAY showcasing the power of creativity and collaboration. \nWhy Attend: \n\nWitness a unique theatrical experience: See the fruits of hours of dedicated work by talented artists.\nSupport the Arts: The Festival raises funds for the Leslie Phillips Fund for Arts and Education at HCC\, This initiative enriches arts arts experiences for students\, audiences\, and the community\, through master classes\, capital improvements\, guest artist engagements\, and community programming.\nBe part of a Vibrant Community: This event embodies creativity\, collaboration\, and community spirit while nurturing the future of the Arts in the Valley\nPurchase Tickets: Support the Festival by attending the performance. Tickets are available for $15 (general admission)\, $10 (students/seniors)\, $5 for HCC students with ID\n\nAdvanced Credit Card Ticket Sales:  https://phillips-fest-performance-tickets-temp-88340.cheddarup.com \nDay of Sales at Door:  CASH ONLY \nDon’t miss this unforgettable event!  \nPhillips Festival is made possible\, in part\, by a grant from the MASS Cultural Council
URL:https://www.exploreholyoke.com/event/phillips-festival-2024/
LOCATION:Holyoke Community College\, 303 Homestead Ave\, Holyoke\, MA\, 01040\, United States
ATTACH;FMTTYPE=image/png:https://www.exploreholyoke.com/wp-content/uploads/2024/09/MAIN-2024-LOGO.png
END:VEVENT
BEGIN:VEVENT
DTSTART;TZID=America/New_York:20231219T090000
DTEND;TZID=America/New_York:20231219T110000
DTSTAMP:20260421T121041
CREATED:20231127T181349Z
LAST-MODIFIED:20231127T182408Z
UID:10002104-1702976400-1702983600@www.exploreholyoke.com
SUMMARY:UnNatural Causes: Is Inequality Making Us Sick? HCC Anthropology and Public Health and COVID-19 Class Presentations
DESCRIPTION:Join us as Holyoke Community College students from Professor Martinez’s ANT 255 class titled UnNatural Causes: Is Inequality Making Us Sick?  present their oral history projects.  Two teams gathered data for two projects – one\, about the experience of Holyokers during the COVID-19 pandemic; and the other on how Holyoke living conditions impact health.  Students from – ANT 101: Cultural Anthropology and ANT 114: Understanding Diversity – also collected interviews with Holyoke residents and workers for both of these projects.
URL:https://www.exploreholyoke.com/event/unnatural-causes-is-inequality-making-us-sick-hcc-anthropology-and-public-health-and-covid-19-class-presentations/
LOCATION:Holyoke Community College\, 303 Homestead Ave\, Holyoke\, MA\, 01040\, United States
ATTACH;FMTTYPE=image/png:https://www.exploreholyoke.com/wp-content/uploads/2023/11/HCC-WISTY-LOGOS1.png
END:VEVENT
BEGIN:VEVENT
DTSTART;TZID=America/New_York:20231213T140000
DTEND;TZID=America/New_York:20231213T160000
DTSTAMP:20260421T121041
CREATED:20231127T181022Z
LAST-MODIFIED:20231205T200440Z
UID:10002103-1702476000-1702483200@www.exploreholyoke.com
SUMMARY:Animating the Museum: a Screening of Student Short Films
DESCRIPTION:Students from Holyoke Community College’s Intro to Animation Course will be screening their short films inspired by the Wistariahurst Museum’s collection\, architecture\, and history. Come for a robbery at the frog bank\, wandering ghosts\, and marble rabbits come to life. Stay to celebrate these incredible budding animators. Refreshments will be provided.  Free and open to all.
URL:https://www.exploreholyoke.com/event/animating-the-museum-a-screening-of-student-short-films/
LOCATION:Holyoke Community College\, 303 Homestead Ave\, Holyoke\, MA\, 01040\, United States
ATTACH;FMTTYPE=image/png:https://www.exploreholyoke.com/wp-content/uploads/2023/11/HCC-WISTY-LOGOS.png
END:VEVENT
BEGIN:VEVENT
DTSTART;TZID=America/New_York:20231003T190000
DTEND;TZID=America/New_York:20231003T210000
DTSTAMP:20260421T121041
CREATED:20230920T163703Z
LAST-MODIFIED:20230921T124133Z
UID:10001604-1696359600-1696366800@www.exploreholyoke.com
SUMMARY:NEVER TWENTY ONE
DESCRIPTION:NEVER TWENTY ONE Pays tribute to the young Black men who have been victims of gun violence in New York\, Rio de Janeiro\, and Johannesburg\, who will never reach the age of 21. Three powerful dancers\, torsos inscribed with testimonials from the victims’ families\, recount the stories through movement.
URL:https://www.exploreholyoke.com/event/never-twenty-one/
LOCATION:Holyoke Community College\, 303 Homestead Ave\, Holyoke\, MA\, 01040\, United States
ATTACH;FMTTYPE=image/png:https://www.exploreholyoke.com/wp-content/uploads/2023/09/NEVER-21.png
END:VEVENT
BEGIN:VEVENT
DTSTART;TZID=America/New_York:20230630T180000
DTEND;TZID=America/New_York:20230630T180000
DTSTAMP:20260421T121041
CREATED:20230628T183218Z
LAST-MODIFIED:20230628T184253Z
UID:10001466-1688148000-1688148000@www.exploreholyoke.com
SUMMARY:City of Holyoke Fireworks 2023
DESCRIPTION:Holyoke’s July 4th Fireworks Celebration will take place on Friday\, June 30th with the rain date of Friday\, July 7th on the beautiful grounds of Holyoke Community College\, located on\nHomestead Avenue. \nVendors interested in taking part in the event should contact the Parks and Recreation Department for a permit application at 413-322-5620. \nThe City of Holyoke Fireworks are sponsored each year by Holyoke Gas & Electric and the event is hosted by Holyoke Community College. Mayor Garcia encourages everyone to come early to enjoy the music and food. There will also be many activities for children. The event begins at 6:00 PM\, with the fireworks display scheduled to start at dusk. No alcoholic beverages or bottles are allowed on the premises. Only vendors permitted in advance will be allowed on site.
URL:https://www.exploreholyoke.com/event/city-of-holyoke-fireworks-2023/
LOCATION:Holyoke Community College\, 303 Homestead Ave\, Holyoke\, MA\, 01040\, United States
ATTACH;FMTTYPE=image/jpeg:https://www.exploreholyoke.com/wp-content/uploads/2023/06/fireworks.jpg
END:VEVENT
BEGIN:VEVENT
DTSTART;TZID=America/New_York:20230426T110000
DTEND;TZID=America/New_York:20230426T121500
DTSTAMP:20260421T121041
CREATED:20230410T201308Z
LAST-MODIFIED:20230411T141528Z
UID:10001237-1682506800-1682511300@www.exploreholyoke.com
SUMMARY:Panel: Stories of Resilience
DESCRIPTION:The ALANA Men in Motion program will host a panel discussion showcasing “stories of resilience” with guest speakers sharing their personal stories and discussing how resilience helps men of color overcome systemic barriers.\n\nThis event is free and open to the public. Please email alana@hcc.edu with any questions.\nKC 301/303\, Holyoke Community College\, 303 Homestead Ave.\, Holyoke\n\nCan’t join us in person? Register for the Zoom: https://tinyurl.com/rveea32h
URL:https://www.exploreholyoke.com/event/panel-stories-of-resilience/
LOCATION:Holyoke Community College\, 303 Homestead Ave\, Holyoke\, MA\, 01040\, United States
ATTACH;FMTTYPE=image/png:https://www.exploreholyoke.com/wp-content/uploads/2023/04/storiesofresilience.png
END:VEVENT
BEGIN:VEVENT
DTSTART;TZID=America/New_York:20230331T180000
DTEND;TZID=America/New_York:20230331T200000
DTSTAMP:20260421T121041
CREATED:20230323T194319Z
LAST-MODIFIED:20230323T194655Z
UID:10001208-1680285600-1680292800@www.exploreholyoke.com
SUMMARY:Free Documentary Screening: "Intelligent Lives"
DESCRIPTION:Intelligent Lives follows the lives of young adults with intellectual disabilities as they tackle preconceptions of intelligence in the classroom\, on campus\, and the workplace. \nLight refreshments will be provided\, as well as information packets and fidgets. Families\, students\, and professionals are welcome! \nIf you require any accommodations\, please contact osd@hcc.edu or call 413.552.2417. For more information about this event or MAICEI\, please contact Rebecca Leporati\, Program Coordinator\, at rleporati@hcc.edu or call 413.552.2844.
URL:https://www.exploreholyoke.com/event/free-documentary-screening-intelligent-lives/
LOCATION:Holyoke Community College\, 303 Homestead Ave\, Holyoke\, MA\, 01040\, United States
ATTACH;FMTTYPE=image/png:https://www.exploreholyoke.com/wp-content/uploads/2023/03/intelligentlives.png
END:VEVENT
BEGIN:VEVENT
DTSTART;TZID=America/New_York:20230312T150000
DTEND;TZID=America/New_York:20230312T150000
DTSTAMP:20260421T121041
CREATED:20230302T155255Z
LAST-MODIFIED:20230302T163405Z
UID:10000705-1678633200-1678633200@www.exploreholyoke.com
SUMMARY:Holyoke Civic Symphony Concert
DESCRIPTION:The Holyoke Civic Symphony will perform in the Leslie Phillips Theater at Holyoke Community College on Sunday\, March 12 at 3 p.m. This concert is free and open to all.
URL:https://www.exploreholyoke.com/event/holyoke-civic-symphony-concert/
LOCATION:Holyoke Community College\, 303 Homestead Ave\, Holyoke\, MA\, 01040\, United States
ATTACH;FMTTYPE=image/jpeg:https://www.exploreholyoke.com/wp-content/uploads/2023/03/328725789_8985470928160479_855794764926793737_n.jpg
END:VEVENT
BEGIN:VEVENT
DTSTART;TZID=America/New_York:20230303T200000
DTEND;TZID=America/New_York:20230303T200000
DTSTAMP:20260421T121041
CREATED:20230302T155130Z
LAST-MODIFIED:20230302T163341Z
UID:10000704-1677873600-1677873600@www.exploreholyoke.com
SUMMARY:Jazz Festival
DESCRIPTION:The annual Holyoke Community College Jazz Festival returns for its 24th year on March 3 with bass player Avery Sharpe joining the Amherst Jazz Orchestra and members of the HCC jazz faculty for a big band concert.\n\nThe show will begin at 8 p.m. in HCC’s Leslie Phillips Theater in the Fine & Performing Arts building on the main HCC campus\, 303 Homestead Ave. The concert is free for HCC students\, faculty and staff\, and $10 for the general public.\n\nRead more about special guest Avery Sharpe: https://tinyurl.com/3e3zwuhu
URL:https://www.exploreholyoke.com/event/jazz-festival/
LOCATION:Holyoke Community College\, 303 Homestead Ave\, Holyoke\, MA\, 01040\, United States
ATTACH;FMTTYPE=image/jpeg:https://www.exploreholyoke.com/wp-content/uploads/2023/03/332985667_570983938413184_7819520042985666933_n.jpg
END:VEVENT
BEGIN:VEVENT
DTSTART;TZID=America/New_York:20221023T150000
DTEND;TZID=America/New_York:20221023T161500
DTSTAMP:20260421T121041
CREATED:20221014T230146Z
LAST-MODIFIED:20221017T182651Z
UID:10000530-1666537200-1666541700@www.exploreholyoke.com
SUMMARY:Skol! A Scandinavian Celebration
DESCRIPTION:In the Leslie Phillips Theater in the Fine and Performing Art building of Holyoke Community College\, doors open at 2:30 for the performance which begins at 3 pm. There is no admission charge. Donations (cash and checks )are greatly appreciated. \nComposers born in the Scandinavian nations of Norway\, Sweden\, Denmark\, Finland\, and Iceland were relative newcomers to the Classical European art scene\, but since World War II their works have become increasingly prominent in orchestra programs as well as in popular music. In Skol! A Scandinavian Celebration four of the best-known musicians whose compositions have become familiar to audiences around the world will be performed\, including: Cark Nielsen’s Maskarade Overture\, FS-39; two selections from works of Jean Sibelius – Karelia Suite\, Op. 11 and Finlandia\, Op. 26; Franz Berwald’s Estrella de Soria Overture\, and Edvard Grieg’s Peer Gynt Suite No. 1\, Op- 46. \nConcertgoers are required to wear masks in building and theater. \nCan’t make it to the live concert? Register at https://tinyurl.com/nsrwchuf to ZOOM.\nFurther information about the program\, the season\, to donate online\, and more is available at www.holyokecivicsymphony.org or 413-256-1760.
URL:https://www.exploreholyoke.com/event/skol-a-scandinavian-celebration/
LOCATION:Holyoke Community College\, 303 Homestead Ave\, Holyoke\, MA\, 01040\, United States
ATTACH;FMTTYPE=image/png:https://www.exploreholyoke.com/wp-content/uploads/2022/10/Skol-A-Scandinavian-Celebration.png
END:VEVENT
END:VCALENDAR