BEGIN:VCALENDAR
VERSION:2.0
PRODID:-//Explore Holyoke - ECPv6.15.20//NONSGML v1.0//EN
CALSCALE:GREGORIAN
METHOD:PUBLISH
X-WR-CALNAME:Explore Holyoke
X-ORIGINAL-URL:https://www.exploreholyoke.com
X-WR-CALDESC:Events for Explore Holyoke
REFRESH-INTERVAL;VALUE=DURATION:PT1H
X-Robots-Tag:noindex
X-PUBLISHED-TTL:PT1H
BEGIN:VTIMEZONE
TZID:America/New_York
BEGIN:DAYLIGHT
TZOFFSETFROM:-0500
TZOFFSETTO:-0400
TZNAME:EDT
DTSTART:20230312T070000
END:DAYLIGHT
BEGIN:STANDARD
TZOFFSETFROM:-0400
TZOFFSETTO:-0500
TZNAME:EST
DTSTART:20231105T060000
END:STANDARD
BEGIN:DAYLIGHT
TZOFFSETFROM:-0500
TZOFFSETTO:-0400
TZNAME:EDT
DTSTART:20240310T070000
END:DAYLIGHT
BEGIN:STANDARD
TZOFFSETFROM:-0400
TZOFFSETTO:-0500
TZNAME:EST
DTSTART:20241103T060000
END:STANDARD
BEGIN:DAYLIGHT
TZOFFSETFROM:-0500
TZOFFSETTO:-0400
TZNAME:EDT
DTSTART:20250309T070000
END:DAYLIGHT
BEGIN:STANDARD
TZOFFSETFROM:-0400
TZOFFSETTO:-0500
TZNAME:EST
DTSTART:20251102T060000
END:STANDARD
BEGIN:DAYLIGHT
TZOFFSETFROM:-0500
TZOFFSETTO:-0400
TZNAME:EDT
DTSTART:20260308T070000
END:DAYLIGHT
BEGIN:STANDARD
TZOFFSETFROM:-0400
TZOFFSETTO:-0500
TZNAME:EST
DTSTART:20261101T060000
END:STANDARD
END:VTIMEZONE
BEGIN:VEVENT
DTSTART;TZID=America/New_York:20251218T150000
DTEND;TZID=America/New_York:20251218T170000
DTSTAMP:20260421T190802
CREATED:20251212T205201Z
LAST-MODIFIED:20251212T211907Z
UID:10005393-1766070000-1766077200@www.exploreholyoke.com
SUMMARY:Free Warm Clothing Giveaway at Girls Inc!
DESCRIPTION:Free Warm Clothing Giveaway – December 18th!\nGirls Inc. of the Valley\, in collaboration with Kestrel Land Trust\, is hosting a Warm Clothing Drive & Community Giveaway to help keep our neighbors warm this winter. \nJoin us on Thursday\, December 18th\, from 3 to 5 PM at 480 Hampden Street\, Holyoke\, to pick up FREE winter essentials including hats\, gloves\, scarves\, and more. All items are organized and distributed by Girls Inc. youth! \nWant to support the effort?\nWe’re accepting donations of new or gently used hats\, gloves\, and scarves until December 16th. \nSpread the word and help us warm up our community! #StrongSmartBoldGiving
URL:https://www.exploreholyoke.com/event/free-warm-clothing-giveaway-at-girls-inc/
LOCATION:Girls Inc. of the Valley\, 480 Hampden Street\, Holyoke\, MA\, 01040
ATTACH;FMTTYPE=image/jpeg:https://www.exploreholyoke.com/wp-content/uploads/2025/12/Red-and-Blue-Festive-Illustrative-Winter-Sale-Promotional-Instagram-Post-1.jpg
END:VEVENT
BEGIN:VEVENT
DTSTART;TZID=America/New_York:20251121T140000
DTEND;TZID=America/New_York:20251121T180000
DTSTAMP:20260421T190802
CREATED:20251118T214439Z
LAST-MODIFIED:20251118T215613Z
UID:10005330-1763733600-1763748000@www.exploreholyoke.com
SUMMARY:Full Plates\, Full Hearts Food Drive at Girls Inc. of the Valley!
DESCRIPTION:Full Plates\, Full Hearts Food Drive (Nov 10–21)\nJoin Girls Inc. of the Valley in supporting Kate’s Kitchen by donating non-perishable foods now through November 21. Most-needed items include cereals\, mac & cheese\, canned soups/stews\, baking mixes\, condiments\, and Chef Boyardee/Hamburger Helper. \nDrop off donations at 480 Hampden St.\, Holyoke and help us fill plates — and hearts — this holiday season.
URL:https://www.exploreholyoke.com/event/full-plates-full-hearts-food-drive-at-girls-inc-of-the-valley/2025-11-21/
LOCATION:Girls Inc. of the Valley\, 480 Hampden Street\, Holyoke\, MA\, 01040
ATTACH;FMTTYPE=image/png:https://www.exploreholyoke.com/wp-content/uploads/2025/11/Food_1-1.png
END:VEVENT
BEGIN:VEVENT
DTSTART;TZID=America/New_York:20251121T140000
DTEND;TZID=America/New_York:20251121T180000
DTSTAMP:20260421T190802
CREATED:20251118T213923Z
LAST-MODIFIED:20251119T150854Z
UID:10005320-1763733600-1763748000@www.exploreholyoke.com
SUMMARY:Soup and Support at Girls Inc. of the Valley!
DESCRIPTION:Girls Inc. of the Valley — Strong\, Smart\, Bold & Giving!\nJoin us on Friday\, November 21 for our Soup and Support event\, where our afterschool girls will share warm soup and distribute non-perishable foods to local families in need. \nYou can be part of our Circle of Support by donating canned goods\, spreading the word\, or joining us in person at 2:00 PM at 480 Hampden Street\, Holyoke. \nWhen we give together\, we grow together
URL:https://www.exploreholyoke.com/event/soup-and-support-at-girls-inc-of-the-valley/
LOCATION:Girls Inc. of the Valley\, 480 Hampden Street\, Holyoke\, MA\, 01040
ATTACH;FMTTYPE=image/jpeg:https://www.exploreholyoke.com/wp-content/uploads/2025/11/Girls-Inc.jpg
END:VEVENT
BEGIN:VEVENT
DTSTART;TZID=America/New_York:20251120T140000
DTEND;TZID=America/New_York:20251120T180000
DTSTAMP:20260421T190802
CREATED:20251118T214439Z
LAST-MODIFIED:20251118T215613Z
UID:10005329-1763647200-1763661600@www.exploreholyoke.com
SUMMARY:Full Plates\, Full Hearts Food Drive at Girls Inc. of the Valley!
DESCRIPTION:Full Plates\, Full Hearts Food Drive (Nov 10–21)\nJoin Girls Inc. of the Valley in supporting Kate’s Kitchen by donating non-perishable foods now through November 21. Most-needed items include cereals\, mac & cheese\, canned soups/stews\, baking mixes\, condiments\, and Chef Boyardee/Hamburger Helper. \nDrop off donations at 480 Hampden St.\, Holyoke and help us fill plates — and hearts — this holiday season.
URL:https://www.exploreholyoke.com/event/full-plates-full-hearts-food-drive-at-girls-inc-of-the-valley/2025-11-20/
LOCATION:Girls Inc. of the Valley\, 480 Hampden Street\, Holyoke\, MA\, 01040
ATTACH;FMTTYPE=image/png:https://www.exploreholyoke.com/wp-content/uploads/2025/11/Food_1-1.png
END:VEVENT
BEGIN:VEVENT
DTSTART;TZID=America/New_York:20251119T140000
DTEND;TZID=America/New_York:20251119T180000
DTSTAMP:20260421T190802
CREATED:20251118T214439Z
LAST-MODIFIED:20251118T215613Z
UID:10005328-1763560800-1763575200@www.exploreholyoke.com
SUMMARY:Full Plates\, Full Hearts Food Drive at Girls Inc. of the Valley!
DESCRIPTION:Full Plates\, Full Hearts Food Drive (Nov 10–21)\nJoin Girls Inc. of the Valley in supporting Kate’s Kitchen by donating non-perishable foods now through November 21. Most-needed items include cereals\, mac & cheese\, canned soups/stews\, baking mixes\, condiments\, and Chef Boyardee/Hamburger Helper. \nDrop off donations at 480 Hampden St.\, Holyoke and help us fill plates — and hearts — this holiday season.
URL:https://www.exploreholyoke.com/event/full-plates-full-hearts-food-drive-at-girls-inc-of-the-valley/2025-11-19/
LOCATION:Girls Inc. of the Valley\, 480 Hampden Street\, Holyoke\, MA\, 01040
ATTACH;FMTTYPE=image/png:https://www.exploreholyoke.com/wp-content/uploads/2025/11/Food_1-1.png
END:VEVENT
BEGIN:VEVENT
DTSTART;TZID=America/New_York:20251118T140000
DTEND;TZID=America/New_York:20251118T180000
DTSTAMP:20260421T190802
CREATED:20251118T214439Z
LAST-MODIFIED:20251118T215613Z
UID:10005327-1763474400-1763488800@www.exploreholyoke.com
SUMMARY:Full Plates\, Full Hearts Food Drive at Girls Inc. of the Valley!
DESCRIPTION:Full Plates\, Full Hearts Food Drive (Nov 10–21)\nJoin Girls Inc. of the Valley in supporting Kate’s Kitchen by donating non-perishable foods now through November 21. Most-needed items include cereals\, mac & cheese\, canned soups/stews\, baking mixes\, condiments\, and Chef Boyardee/Hamburger Helper. \nDrop off donations at 480 Hampden St.\, Holyoke and help us fill plates — and hearts — this holiday season.
URL:https://www.exploreholyoke.com/event/full-plates-full-hearts-food-drive-at-girls-inc-of-the-valley/2025-11-18/
LOCATION:Girls Inc. of the Valley\, 480 Hampden Street\, Holyoke\, MA\, 01040
ATTACH;FMTTYPE=image/png:https://www.exploreholyoke.com/wp-content/uploads/2025/11/Food_1-1.png
END:VEVENT
BEGIN:VEVENT
DTSTART;TZID=America/New_York:20251117T140000
DTEND;TZID=America/New_York:20251117T180000
DTSTAMP:20260421T190802
CREATED:20251118T214439Z
LAST-MODIFIED:20251118T215613Z
UID:10005326-1763388000-1763402400@www.exploreholyoke.com
SUMMARY:Full Plates\, Full Hearts Food Drive at Girls Inc. of the Valley!
DESCRIPTION:Full Plates\, Full Hearts Food Drive (Nov 10–21)\nJoin Girls Inc. of the Valley in supporting Kate’s Kitchen by donating non-perishable foods now through November 21. Most-needed items include cereals\, mac & cheese\, canned soups/stews\, baking mixes\, condiments\, and Chef Boyardee/Hamburger Helper. \nDrop off donations at 480 Hampden St.\, Holyoke and help us fill plates — and hearts — this holiday season.
URL:https://www.exploreholyoke.com/event/full-plates-full-hearts-food-drive-at-girls-inc-of-the-valley/2025-11-17/
LOCATION:Girls Inc. of the Valley\, 480 Hampden Street\, Holyoke\, MA\, 01040
ATTACH;FMTTYPE=image/png:https://www.exploreholyoke.com/wp-content/uploads/2025/11/Food_1-1.png
END:VEVENT
BEGIN:VEVENT
DTSTART;TZID=America/New_York:20251114T140000
DTEND;TZID=America/New_York:20251114T180000
DTSTAMP:20260421T190802
CREATED:20251118T214439Z
LAST-MODIFIED:20251118T215613Z
UID:10005325-1763128800-1763143200@www.exploreholyoke.com
SUMMARY:Full Plates\, Full Hearts Food Drive at Girls Inc. of the Valley!
DESCRIPTION:Full Plates\, Full Hearts Food Drive (Nov 10–21)\nJoin Girls Inc. of the Valley in supporting Kate’s Kitchen by donating non-perishable foods now through November 21. Most-needed items include cereals\, mac & cheese\, canned soups/stews\, baking mixes\, condiments\, and Chef Boyardee/Hamburger Helper. \nDrop off donations at 480 Hampden St.\, Holyoke and help us fill plates — and hearts — this holiday season.
URL:https://www.exploreholyoke.com/event/full-plates-full-hearts-food-drive-at-girls-inc-of-the-valley/2025-11-14/
LOCATION:Girls Inc. of the Valley\, 480 Hampden Street\, Holyoke\, MA\, 01040
ATTACH;FMTTYPE=image/png:https://www.exploreholyoke.com/wp-content/uploads/2025/11/Food_1-1.png
END:VEVENT
BEGIN:VEVENT
DTSTART;TZID=America/New_York:20251113T140000
DTEND;TZID=America/New_York:20251113T180000
DTSTAMP:20260421T190802
CREATED:20251118T214439Z
LAST-MODIFIED:20251118T215613Z
UID:10005324-1763042400-1763056800@www.exploreholyoke.com
SUMMARY:Full Plates\, Full Hearts Food Drive at Girls Inc. of the Valley!
DESCRIPTION:Full Plates\, Full Hearts Food Drive (Nov 10–21)\nJoin Girls Inc. of the Valley in supporting Kate’s Kitchen by donating non-perishable foods now through November 21. Most-needed items include cereals\, mac & cheese\, canned soups/stews\, baking mixes\, condiments\, and Chef Boyardee/Hamburger Helper. \nDrop off donations at 480 Hampden St.\, Holyoke and help us fill plates — and hearts — this holiday season.
URL:https://www.exploreholyoke.com/event/full-plates-full-hearts-food-drive-at-girls-inc-of-the-valley/2025-11-13/
LOCATION:Girls Inc. of the Valley\, 480 Hampden Street\, Holyoke\, MA\, 01040
ATTACH;FMTTYPE=image/png:https://www.exploreholyoke.com/wp-content/uploads/2025/11/Food_1-1.png
END:VEVENT
BEGIN:VEVENT
DTSTART;TZID=America/New_York:20251112T140000
DTEND;TZID=America/New_York:20251112T180000
DTSTAMP:20260421T190802
CREATED:20251118T214439Z
LAST-MODIFIED:20251118T215613Z
UID:10005323-1762956000-1762970400@www.exploreholyoke.com
SUMMARY:Full Plates\, Full Hearts Food Drive at Girls Inc. of the Valley!
DESCRIPTION:Full Plates\, Full Hearts Food Drive (Nov 10–21)\nJoin Girls Inc. of the Valley in supporting Kate’s Kitchen by donating non-perishable foods now through November 21. Most-needed items include cereals\, mac & cheese\, canned soups/stews\, baking mixes\, condiments\, and Chef Boyardee/Hamburger Helper. \nDrop off donations at 480 Hampden St.\, Holyoke and help us fill plates — and hearts — this holiday season.
URL:https://www.exploreholyoke.com/event/full-plates-full-hearts-food-drive-at-girls-inc-of-the-valley/2025-11-12/
LOCATION:Girls Inc. of the Valley\, 480 Hampden Street\, Holyoke\, MA\, 01040
ATTACH;FMTTYPE=image/png:https://www.exploreholyoke.com/wp-content/uploads/2025/11/Food_1-1.png
END:VEVENT
BEGIN:VEVENT
DTSTART;TZID=America/New_York:20251111T140000
DTEND;TZID=America/New_York:20251111T180000
DTSTAMP:20260421T190802
CREATED:20251118T214439Z
LAST-MODIFIED:20251118T215613Z
UID:10005322-1762869600-1762884000@www.exploreholyoke.com
SUMMARY:Full Plates\, Full Hearts Food Drive at Girls Inc. of the Valley!
DESCRIPTION:Full Plates\, Full Hearts Food Drive (Nov 10–21)\nJoin Girls Inc. of the Valley in supporting Kate’s Kitchen by donating non-perishable foods now through November 21. Most-needed items include cereals\, mac & cheese\, canned soups/stews\, baking mixes\, condiments\, and Chef Boyardee/Hamburger Helper. \nDrop off donations at 480 Hampden St.\, Holyoke and help us fill plates — and hearts — this holiday season.
URL:https://www.exploreholyoke.com/event/full-plates-full-hearts-food-drive-at-girls-inc-of-the-valley/2025-11-11/
LOCATION:Girls Inc. of the Valley\, 480 Hampden Street\, Holyoke\, MA\, 01040
ATTACH;FMTTYPE=image/png:https://www.exploreholyoke.com/wp-content/uploads/2025/11/Food_1-1.png
END:VEVENT
BEGIN:VEVENT
DTSTART;TZID=America/New_York:20251110T140000
DTEND;TZID=America/New_York:20251110T180000
DTSTAMP:20260421T190802
CREATED:20251118T214439Z
LAST-MODIFIED:20251118T215613Z
UID:10005321-1762783200-1762797600@www.exploreholyoke.com
SUMMARY:Full Plates\, Full Hearts Food Drive at Girls Inc. of the Valley!
DESCRIPTION:Full Plates\, Full Hearts Food Drive (Nov 10–21)\nJoin Girls Inc. of the Valley in supporting Kate’s Kitchen by donating non-perishable foods now through November 21. Most-needed items include cereals\, mac & cheese\, canned soups/stews\, baking mixes\, condiments\, and Chef Boyardee/Hamburger Helper. \nDrop off donations at 480 Hampden St.\, Holyoke and help us fill plates — and hearts — this holiday season.
URL:https://www.exploreholyoke.com/event/full-plates-full-hearts-food-drive-at-girls-inc-of-the-valley/2025-11-10/
LOCATION:Girls Inc. of the Valley\, 480 Hampden Street\, Holyoke\, MA\, 01040
ATTACH;FMTTYPE=image/png:https://www.exploreholyoke.com/wp-content/uploads/2025/11/Food_1-1.png
END:VEVENT
BEGIN:VEVENT
DTSTART;TZID=America/New_York:20250501T130000
DTEND;TZID=America/New_York:20250501T140000
DTSTAMP:20260421T190802
CREATED:20250407T211924Z
LAST-MODIFIED:20250407T213342Z
UID:10004563-1746104400-1746108000@www.exploreholyoke.com
SUMMARY:Girls Inc. of the Valley Unveils New Program Space during Girls Week
DESCRIPTION:Girls Inc. of the Valley invites the community to celebrate the unveiling of their newly renovated program space and the extraordinary achievements of all girls and alumni leading up to Girls Week 2025 and Girls Inc. Together – Day of Giving. Girls Inc. of the Valley is asking the community to join them in breaking down stigmas surrounding mental health\, and championing the actions girls are taking to support their peers and communities. Girls Inc. Week\, taking place from Monday\, May 5th to Friday\, May 9th\, 2025\, will culminate in the second-annual network-wide virtual fundraiser\, Girls Inc. Together – a Day of Giving\, taking place on Thursday\, May 8th\, 2025. Guests and attendees of this exciting unveiling will have the opportunity to walk through Girls Inc. of the Valley’s newly renovated program space on Thursday\, May 1st\, 2025 at 1:00pm\, at Girls Inc. of the Valley located at 480 Hampden Street\, Holyoke\, MA. 
URL:https://www.exploreholyoke.com/event/girls-inc-of-the-valley-unveils-new-program-space-during-girls-week/
LOCATION:Girls Inc. of the Valley\, 480 Hampden Street\, Holyoke\, MA\, 01040
ATTACH;FMTTYPE=image/png:https://www.exploreholyoke.com/wp-content/uploads/2025/04/girls-inc.png
END:VEVENT
BEGIN:VEVENT
DTSTART;TZID=America/New_York:20240822T173000
DTEND;TZID=America/New_York:20240822T203000
DTSTAMP:20260421T190802
CREATED:20240716T140751Z
LAST-MODIFIED:20240716T151546Z
UID:10003119-1724347800-1724358600@www.exploreholyoke.com
SUMMARY:Summer Nights
DESCRIPTION:For 6 Thursdays in a row\, come join Girls Inc for our second annual Summer Nights! Different themes and activities every week. Dinner & dessert always included!
URL:https://www.exploreholyoke.com/event/summer-nights/2024-08-22/
LOCATION:Girls Inc. of the Valley\, 480 Hampden Street\, Holyoke\, MA\, 01040
ATTACH;FMTTYPE=image/png:https://www.exploreholyoke.com/wp-content/uploads/2024/07/SUMMER-NIGHTS-2.png
END:VEVENT
BEGIN:VEVENT
DTSTART;TZID=America/New_York:20240815T173000
DTEND;TZID=America/New_York:20240815T203000
DTSTAMP:20260421T190802
CREATED:20240716T140751Z
LAST-MODIFIED:20240716T151546Z
UID:10003118-1723743000-1723753800@www.exploreholyoke.com
SUMMARY:Summer Nights
DESCRIPTION:For 6 Thursdays in a row\, come join Girls Inc for our second annual Summer Nights! Different themes and activities every week. Dinner & dessert always included!
URL:https://www.exploreholyoke.com/event/summer-nights/2024-08-15/
LOCATION:Girls Inc. of the Valley\, 480 Hampden Street\, Holyoke\, MA\, 01040
ATTACH;FMTTYPE=image/png:https://www.exploreholyoke.com/wp-content/uploads/2024/07/SUMMER-NIGHTS-2.png
END:VEVENT
BEGIN:VEVENT
DTSTART;TZID=America/New_York:20240808T173000
DTEND;TZID=America/New_York:20240808T203000
DTSTAMP:20260421T190802
CREATED:20240716T140751Z
LAST-MODIFIED:20240716T151546Z
UID:10003117-1723138200-1723149000@www.exploreholyoke.com
SUMMARY:Summer Nights
DESCRIPTION:For 6 Thursdays in a row\, come join Girls Inc for our second annual Summer Nights! Different themes and activities every week. Dinner & dessert always included!
URL:https://www.exploreholyoke.com/event/summer-nights/2024-08-08/
LOCATION:Girls Inc. of the Valley\, 480 Hampden Street\, Holyoke\, MA\, 01040
ATTACH;FMTTYPE=image/png:https://www.exploreholyoke.com/wp-content/uploads/2024/07/SUMMER-NIGHTS-2.png
END:VEVENT
BEGIN:VEVENT
DTSTART;TZID=America/New_York:20240801T173000
DTEND;TZID=America/New_York:20240801T203000
DTSTAMP:20260421T190802
CREATED:20240716T140751Z
LAST-MODIFIED:20240716T151546Z
UID:10003116-1722533400-1722544200@www.exploreholyoke.com
SUMMARY:Summer Nights
DESCRIPTION:For 6 Thursdays in a row\, come join Girls Inc for our second annual Summer Nights! Different themes and activities every week. Dinner & dessert always included!
URL:https://www.exploreholyoke.com/event/summer-nights/2024-08-01/
LOCATION:Girls Inc. of the Valley\, 480 Hampden Street\, Holyoke\, MA\, 01040
ATTACH;FMTTYPE=image/png:https://www.exploreholyoke.com/wp-content/uploads/2024/07/SUMMER-NIGHTS-2.png
END:VEVENT
BEGIN:VEVENT
DTSTART;TZID=America/New_York:20240725T173000
DTEND;TZID=America/New_York:20240725T203000
DTSTAMP:20260421T190802
CREATED:20240716T140751Z
LAST-MODIFIED:20240716T151546Z
UID:10003115-1721928600-1721939400@www.exploreholyoke.com
SUMMARY:Summer Nights
DESCRIPTION:For 6 Thursdays in a row\, come join Girls Inc for our second annual Summer Nights! Different themes and activities every week. Dinner & dessert always included!
URL:https://www.exploreholyoke.com/event/summer-nights/2024-07-25/
LOCATION:Girls Inc. of the Valley\, 480 Hampden Street\, Holyoke\, MA\, 01040
ATTACH;FMTTYPE=image/png:https://www.exploreholyoke.com/wp-content/uploads/2024/07/SUMMER-NIGHTS-2.png
END:VEVENT
BEGIN:VEVENT
DTSTART;TZID=America/New_York:20240718T173000
DTEND;TZID=America/New_York:20240718T203000
DTSTAMP:20260421T190802
CREATED:20240716T140751Z
LAST-MODIFIED:20240716T151546Z
UID:10003114-1721323800-1721334600@www.exploreholyoke.com
SUMMARY:Summer Nights
DESCRIPTION:For 6 Thursdays in a row\, come join Girls Inc for our second annual Summer Nights! Different themes and activities every week. Dinner & dessert always included!
URL:https://www.exploreholyoke.com/event/summer-nights/2024-07-18/
LOCATION:Girls Inc. of the Valley\, 480 Hampden Street\, Holyoke\, MA\, 01040
ATTACH;FMTTYPE=image/png:https://www.exploreholyoke.com/wp-content/uploads/2024/07/SUMMER-NIGHTS-2.png
END:VEVENT
BEGIN:VEVENT
DTSTART;TZID=America/New_York:20240524T180000
DTEND;TZID=America/New_York:20240524T200000
DTSTAMP:20260421T190802
CREATED:20240520T142418Z
LAST-MODIFIED:20240520T151141Z
UID:10002905-1716573600-1716580800@www.exploreholyoke.com
SUMMARY:Girls Inc. of the Valley’s Teen Advocacy Board to Host Fundraising Event
DESCRIPTION:Girls Inc. of the Valley’s Teen Advocacy Board (TAB) will host a fundraising event at the end of the month to benefit Hope for Holyoke\, a local organization welcoming all people in recovery from substance use and those affected by substance use. TAB will be selling bracelets with inspirational quotes at the event to spread awareness and support those struggling with substance abuse. Substance abuse is their chosen cause as it affects an overwhelming amount of people in the community and there is not an abundance of resources for those impacted. Girls Inc. of the Valley aims to encourage all girls to seize opportunity for continuous learning\, personal growth\, and community support. Their mission aligns with that of Hope for Holyoke\, in providing the highest quality services and supporting the well-being of the population. With this fundraising event both organizations will make a positive impact on the lives of many. \nGirls Inc. of the Valley\n480 Hampden Street\, Holyoke\, MA\nParking for the event is located at 16 Linden Street\, Holyoke\, MA
URL:https://www.exploreholyoke.com/event/girls-inc-of-the-valleys-teen-advocacy-board-to-host-fundraising-event/
LOCATION:Girls Inc. of the Valley\, 480 Hampden Street\, Holyoke\, MA\, 01040
END:VEVENT
END:VCALENDAR